BEGIN:VCALENDAR
VERSION:2.0
PRODID:-//Via Trivero - Volere La Luna - ECPv6.15.17.1//NONSGML v1.0//EN
CALSCALE:GREGORIAN
METHOD:PUBLISH
X-WR-CALNAME:Via Trivero - Volere La Luna
X-ORIGINAL-URL:https://viatrivero.staging.19.coop
X-WR-CALDESC:Eventi per Via Trivero - Volere La Luna
REFRESH-INTERVAL;VALUE=DURATION:PT1H
X-Robots-Tag:noindex
X-PUBLISHED-TTL:PT1H
BEGIN:VTIMEZONE
TZID:Europe/Rome
BEGIN:DAYLIGHT
TZOFFSETFROM:+0100
TZOFFSETTO:+0200
TZNAME:CEST
DTSTART:20170326T010000
END:DAYLIGHT
BEGIN:STANDARD
TZOFFSETFROM:+0200
TZOFFSETTO:+0100
TZNAME:CET
DTSTART:20171029T010000
END:STANDARD
BEGIN:DAYLIGHT
TZOFFSETFROM:+0100
TZOFFSETTO:+0200
TZNAME:CEST
DTSTART:20180325T010000
END:DAYLIGHT
BEGIN:STANDARD
TZOFFSETFROM:+0200
TZOFFSETTO:+0100
TZNAME:CET
DTSTART:20181028T010000
END:STANDARD
BEGIN:DAYLIGHT
TZOFFSETFROM:+0100
TZOFFSETTO:+0200
TZNAME:CEST
DTSTART:20190331T010000
END:DAYLIGHT
BEGIN:STANDARD
TZOFFSETFROM:+0200
TZOFFSETTO:+0100
TZNAME:CET
DTSTART:20191027T010000
END:STANDARD
BEGIN:DAYLIGHT
TZOFFSETFROM:+0100
TZOFFSETTO:+0200
TZNAME:CEST
DTSTART:20200329T010000
END:DAYLIGHT
BEGIN:STANDARD
TZOFFSETFROM:+0200
TZOFFSETTO:+0100
TZNAME:CET
DTSTART:20201025T010000
END:STANDARD
BEGIN:DAYLIGHT
TZOFFSETFROM:+0100
TZOFFSETTO:+0200
TZNAME:CEST
DTSTART:20210328T010000
END:DAYLIGHT
BEGIN:STANDARD
TZOFFSETFROM:+0200
TZOFFSETTO:+0100
TZNAME:CET
DTSTART:20211031T010000
END:STANDARD
END:VTIMEZONE
BEGIN:VEVENT
DTSTART;TZID=Europe/Rome:20200603T210000
DTEND;TZID=Europe/Rome:20200603T230000
DTSTAMP:20260423T000426
CREATED:20200530T221207Z
LAST-MODIFIED:20200530T221302Z
UID:273-1591218000-1591225200@viatrivero.staging.19.coop
SUMMARY:Discussione in remoto
DESCRIPTION:Mercoledì 3 giugno alle ore 21\ndiscussione in remoto sul tema:
URL:https://viatrivero.staging.19.coop/evento/discussione-in-remoto/
LOCATION:to
END:VEVENT
BEGIN:VEVENT
DTSTART;VALUE=DATE:20200322
DTEND;VALUE=DATE:20200323
DTSTAMP:20260423T000426
CREATED:20200306T075938Z
LAST-MODIFIED:20200306T081519Z
UID:211-1584835200-1584921599@viatrivero.staging.19.coop
SUMMARY:22 marzo 2020
DESCRIPTION:tutti alla Tesoriera con Officina Creativa  e  Volere la Luna
URL:https://viatrivero.staging.19.coop/evento/2-gennaio-2020/
LOCATION:to
END:VEVENT
BEGIN:VEVENT
DTSTART;TZID=Europe/Rome:20200305T080000
DTEND;TZID=Europe/Rome:20200305T170000
DTSTAMP:20260423T000426
CREATED:20200305T192223Z
LAST-MODIFIED:20200305T192223Z
UID:200-1583395200-1583427600@viatrivero.staging.19.coop
SUMMARY:Officina Creativa
DESCRIPTION:Pietro e Ketty alla manifestazione delle sardine a Torino
URL:https://viatrivero.staging.19.coop/evento/officina-creativa/
LOCATION:to
END:VEVENT
BEGIN:VEVENT
DTSTART;TZID=Europe/Rome:20200305T080000
DTEND;TZID=Europe/Rome:20200305T170000
DTSTAMP:20260423T000427
CREATED:20200305T173804Z
LAST-MODIFIED:20200305T173804Z
UID:203-1583395200-1583427600@viatrivero.staging.19.coop
SUMMARY:Manifestazione Sardine al Valentino
DESCRIPTION:Pietro e Ketty alla manifestazione delle sardine a Torino
URL:https://viatrivero.staging.19.coop/evento/manifestazione-sardine-al-valentino/
LOCATION:to
END:VEVENT
BEGIN:VEVENT
DTSTART;TZID=Europe/Rome:20200227T210000
DTEND;TZID=Europe/Rome:20200227T230000
DTSTAMP:20260423T000427
CREATED:20200217T071708Z
LAST-MODIFIED:20200217T071708Z
UID:186-1582837200-1582844400@viatrivero.staging.19.coop
SUMMARY:27 febbraio - Presentazione
DESCRIPTION:  \n  \n  \nIn via Trivero 16 \nSarà presente l’autore \n 
URL:https://viatrivero.staging.19.coop/evento/27-febbraio-presentazione/
LOCATION:Via Trivero\, Via Trivero 16\, Torino\, 10024\, Italia
ATTACH;FMTTYPE=image/png:https://viatrivero.staging.19.coop/wp-content/uploads/2020/02/Dalla-parte-del-torto.png
END:VEVENT
BEGIN:VEVENT
DTSTART;TZID=Europe/Rome:20181207T080000
DTEND;TZID=Europe/Rome:20181207T170000
DTSTAMP:20260423T000427
CREATED:20201002T152947Z
LAST-MODIFIED:20201007T062840Z
UID:397-1544169600-1544202000@viatrivero.staging.19.coop
SUMMARY:7-12-2018
DESCRIPTION:A Milano per la “prima” della  Scala fra i “vip”.
URL:https://viatrivero.staging.19.coop/evento/7-12-2018/
LOCATION:to
ATTACH;FMTTYPE=image/jpeg:https://viatrivero.staging.19.coop/wp-content/uploads/2020/10/2018-12-7scala-a-milano.jpg
END:VEVENT
BEGIN:VEVENT
DTSTART;TZID=Europe/Rome:20181026T080000
DTEND;TZID=Europe/Rome:20181026T170000
DTSTAMP:20260423T000427
CREATED:20201002T152749Z
LAST-MODIFIED:20201007T062938Z
UID:393-1540540800-1540573200@viatrivero.staging.19.coop
SUMMARY:26-10-2018
DESCRIPTION:Sciopero e  manifestazione. Nel mirino della protesta una  manovra economica considerata né popolare né espansiva.
URL:https://viatrivero.staging.19.coop/evento/26-10-2018/
LOCATION:to
ATTACH;FMTTYPE=image/jpeg:https://viatrivero.staging.19.coop/wp-content/uploads/2020/10/2018-10-26SCIOPERO-TORINO-cub.jpg
END:VEVENT
BEGIN:VEVENT
DTSTART;TZID=Europe/Rome:20180714T080000
DTEND;TZID=Europe/Rome:20180714T170000
DTSTAMP:20260423T000427
CREATED:20201002T152238Z
LAST-MODIFIED:20201007T062746Z
UID:382-1531555200-1531587600@viatrivero.staging.19.coop
SUMMARY:14 luglio 2018
DESCRIPTION:No Borders. A Ventimiglia corteo pro-accoglienza “Manifesteremo a casa nostra”
URL:https://viatrivero.staging.19.coop/evento/14-luglio-2018/
LOCATION:to
ATTACH;FMTTYPE=image/jpeg:https://viatrivero.staging.19.coop/wp-content/uploads/2020/10/2018-7-14ventimiglia-no-borders-scaled.jpg
END:VEVENT
BEGIN:VEVENT
DTSTART;TZID=Europe/Rome:20180513T080000
DTEND;TZID=Europe/Rome:20180513T170000
DTSTAMP:20260423T000427
CREATED:20201002T150821Z
LAST-MODIFIED:20201002T150821Z
UID:357-1526198400-1526230800@viatrivero.staging.19.coop
SUMMARY:
DESCRIPTION:Corteo “Aprite i porti”\,  contro la  decisione del ministro dell’Interno (Matteo Salvini) di chiudere i porti alle navi Ong internazionali.
URL:https://viatrivero.staging.19.coop/evento/357/
LOCATION:to
ATTACH;FMTTYPE=image/jpeg:https://viatrivero.staging.19.coop/wp-content/uploads/2020/10/2018-5-218-costituzione-mattarella-scaled.jpg
END:VEVENT
BEGIN:VEVENT
DTSTART;VALUE=DATE:20180501
DTEND;VALUE=DATE:20180502
DTSTAMP:20260423T000427
CREATED:20201002T151418Z
LAST-MODIFIED:20201002T151522Z
UID:353-1525132800-1525219199@viatrivero.staging.19.coop
SUMMARY:1 maggio 2018
DESCRIPTION:Partecipazione con  animazione teatrale di strada  al tradizionale  corteo del  1°maggio a  Torino
URL:https://viatrivero.staging.19.coop/evento/353/
LOCATION:to
ATTACH;FMTTYPE=image/jpeg:https://viatrivero.staging.19.coop/wp-content/uploads/2020/10/2018-5-1-scaled.jpg
END:VEVENT
END:VCALENDAR