BEGIN:VCALENDAR
VERSION:2.0
PRODID:-//Via Trivero - Volere La Luna - ECPv6.15.17.1//NONSGML v1.0//EN
CALSCALE:GREGORIAN
METHOD:PUBLISH
X-WR-CALNAME:Via Trivero - Volere La Luna
X-ORIGINAL-URL:https://viatrivero.staging.19.coop
X-WR-CALDESC:Eventi per Via Trivero - Volere La Luna
REFRESH-INTERVAL;VALUE=DURATION:PT1H
X-Robots-Tag:noindex
X-PUBLISHED-TTL:PT1H
BEGIN:VTIMEZONE
TZID:Europe/Rome
BEGIN:DAYLIGHT
TZOFFSETFROM:+0100
TZOFFSETTO:+0200
TZNAME:CEST
DTSTART:20200329T010000
END:DAYLIGHT
BEGIN:STANDARD
TZOFFSETFROM:+0200
TZOFFSETTO:+0100
TZNAME:CET
DTSTART:20201025T010000
END:STANDARD
BEGIN:DAYLIGHT
TZOFFSETFROM:+0100
TZOFFSETTO:+0200
TZNAME:CEST
DTSTART:20210328T010000
END:DAYLIGHT
BEGIN:STANDARD
TZOFFSETFROM:+0200
TZOFFSETTO:+0100
TZNAME:CET
DTSTART:20211031T010000
END:STANDARD
BEGIN:DAYLIGHT
TZOFFSETFROM:+0100
TZOFFSETTO:+0200
TZNAME:CEST
DTSTART:20220327T010000
END:DAYLIGHT
BEGIN:STANDARD
TZOFFSETFROM:+0200
TZOFFSETTO:+0100
TZNAME:CET
DTSTART:20221030T010000
END:STANDARD
END:VTIMEZONE
BEGIN:VEVENT
DTSTART;TZID=Europe/Rome:20210520T160000
DTEND;TZID=Europe/Rome:20210520T200000
DTSTAMP:20260422T235906
CREATED:20210507T210248Z
LAST-MODIFIED:20210507T210248Z
UID:2727-1621526400-1621540800@viatrivero.staging.19.coop
SUMMARY:PENSIERO UNICO\, DISSENSO\, REPRESSIONE: CHE FARE?
DESCRIPTION:Seconda parte del dibattito sui temi affrontati nel convegno del 22 aprile scorso\n\n\n\n\n\nhttps://www.youtube.com/watch?v=Els05k2G2kc
URL:https://viatrivero.staging.19.coop/evento/pensiero-unico-dissenso-repressione-che-fare/
CATEGORIES:News
ATTACH;FMTTYPE=image/jpeg:https://viatrivero.staging.19.coop/wp-content/uploads/2021/04/pensierounico3.jpg
END:VEVENT
BEGIN:VEVENT
DTSTART;TZID=Europe/Rome:20210514T080000
DTEND;TZID=Europe/Rome:20210514T170000
DTSTAMP:20260422T235906
CREATED:20210514T200100Z
LAST-MODIFIED:20210514T200138Z
UID:2808-1620979200-1621011600@viatrivero.staging.19.coop
SUMMARY:La distribuzione pasti in  collaborazione  con il Circolo Gramsci
DESCRIPTION:viene effettuata tutti i venerdì da Enzo e  Gabriella
URL:https://viatrivero.staging.19.coop/evento/la-distribuzione-pasti-in-collaborazione-con-il-circolo-gramsci-2/
CATEGORIES:News
END:VEVENT
BEGIN:VEVENT
DTSTART;TZID=Europe/Rome:20210513T180000
DTEND;TZID=Europe/Rome:20210513T193000
DTSTAMP:20260422T235906
CREATED:20210514T194927Z
LAST-MODIFIED:20210514T195755Z
UID:2792-1620928800-1620934200@viatrivero.staging.19.coop
SUMMARY:Cosa vuol dire  Socialismo
DESCRIPTION:Conversazione per la buona politica \nCapitalismo: il nostro destino? \nFranco Milanese\, Monica  Quirico\, Gianfranco Ragona \nConduce \nJacopo Rosatelli
URL:https://viatrivero.staging.19.coop/evento/cosa-vuol-dire-socialismo/
CATEGORIES:News
END:VEVENT
BEGIN:VEVENT
DTSTART;TZID=Europe/Rome:20210510T170000
DTEND;TZID=Europe/Rome:20210510T190000
DTSTAMP:20260422T235906
CREATED:20210507T115554Z
LAST-MODIFIED:20210507T205925Z
UID:2702-1620666000-1620673200@viatrivero.staging.19.coop
SUMMARY:LEGGERMENTE incontra Marco Aime\, autore del libro "Pensare altrimenti. Antropologia in 10 parole."
DESCRIPTION: Via Edoardo Rubino\, 45\, 10137 Torino TO\, Italia\n\n\n\n\n\n\n\n\n\n\n\n\n\n\n\n\n\n\n\n\n\n\n\n\n\n\n\n\n\n\n\n\n\n\n\n\n\n\n\n\n\n\n\n\n\n\n\n\n\n\n\n\n\n\n\n\n\n\n\nEvent by Leggermente Torino\, Cascina Roccafranca and Libreria Gulliver\n\n\n\n\n\n\n\n\n\n\n\n\n\nMonday at 5 PM UTC+02\n\n\n13–15°C Rain\n\n\n\n\n\n\n\n\nPubblico  · Chiunque su Facebook o fuori Facebook\n\n\n\n“[…] partiamo male\, veniamo al mondo incompleti. Unici\, tra gli animali che\, nella versione base senza optional\, non funzioniamo\, tanto è vero che per sopravvivere impieghiamo anni ad apprendere come stare al mondo.”\n\n.Marco Aime è attualmente ricercatore di Antropologia Culturale presso l’Università di Genova. Ha condotto ricerche in Benin\, Burkina Faso e Mali\, oltre che sulle Alpi. Oltre a numerosi articoli scientifici\, ha pubblicato vari testi antropologici sui paesi visitati.\nÈ inoltre autore anche di alcune opere di narrativa.\n.“Pensare altrimenti. Antropologia in 10 parole” è un libro che mano a mano che lo si legge si presenta come un vero e proprio viaggio.\nUn viaggio nel mondo dell’antropologia\, composto da 10 tappe in 10 parole.\nLe parole che l’autore sceglie per accompagnarci e aprire discorsi e riflessioni sul tema che ci riguarda tutti sono:\nEssere\, Convivere\, Comunicare\, Dove e Quando\, Crescere\, Specchiarsi\, Rappresentarsi\, Donare\, Credere\, Nutrirsi.\nL’autore\, Marco Aime\, parte dal presupposto che il nostro modo di vivere sia soltanto uno dei molti modi possibili e ci suggerisce un approccio alla diversità senza troppi pregiudizi e preconcetti.\nAmpliare il nostro punto di vista ed assumere una prospettiva diversa ci consente di comprendere meglio noi stessi in primis\, ma anche tutto ciò che accade nelle nostre città\, nelle campagne\, nelle strade e nelle vite con cui ogni giorno ci relazioniamo; perché\, come dice l’autore\,\n“[…] volenti o nolenti\, stiamo assistendo a un rimescolamento sempre più rapido del mondo che ci circonda in cui incontriamo ogni giorno persone provenienti da posti di cui spesso sappiamo pochissimo\, che ci costringe a confrontarci con diverse concezioni del mondo.”\n.Vuoi approfondire questo fantastico viaggio con l’autore?\nInvia una mail a eventi@cascinaroccafranca.it per iscriverti entro VENERDì 7 MAGGIO!\n.Vi aspettiamo nei locali di Cascina Roccafranca
URL:https://viatrivero.staging.19.coop/evento/https-fb-me-e-57g4qdccm/
CATEGORIES:News
ATTACH;FMTTYPE=image/jpeg:https://viatrivero.staging.19.coop/wp-content/uploads/2021/05/181585666_2132692583535723_8892539216534734151_n.jpg
END:VEVENT
BEGIN:VEVENT
DTSTART;TZID=Europe/Rome:20210507T183000
DTEND;TZID=Europe/Rome:20210507T193000
DTSTAMP:20260422T235906
CREATED:20210505T043109Z
LAST-MODIFIED:20210505T204135Z
UID:2657-1620412200-1620415800@viatrivero.staging.19.coop
SUMMARY:Covid 19 non  confondere il termometro con la febbre
DESCRIPTION:Partecipano Francesco Fantuzzi e Franco Motta (autori di Dentro la zona rossa\, Sensibili alle foglie) e Angelo Tartaglia (autore di Clima. Lettera di un fisico al presidente del Consiglio\, Edizioni Gruppo Abele). Introduce Livio Pepino
URL:https://viatrivero.staging.19.coop/evento/covid-19-non-confondere-il-termometro-con-la-febbre/
CATEGORIES:News
ATTACH;FMTTYPE=image/png:https://viatrivero.staging.19.coop/wp-content/uploads/2021/05/fantuzzi.png
END:VEVENT
BEGIN:VEVENT
DTSTART;TZID=Europe/Rome:20210430T000000
DTEND;TZID=Europe/Rome:20210430T170000
DTSTAMP:20260422T235906
CREATED:20210424T222241Z
LAST-MODIFIED:20210425T053536Z
UID:2414-1619740800-1619802000@viatrivero.staging.19.coop
SUMMARY:Distribuzione pasti
DESCRIPTION:La distribuzione pasti in  collaborazione  con il Circolo Gramsci viene effettuata tutti i venerdì da Enzo e  Gabriella
URL:https://viatrivero.staging.19.coop/evento/distribuzione-pasti-3/
CATEGORIES:News
END:VEVENT
BEGIN:VEVENT
DTSTART;TZID=Europe/Rome:20210429T180000
DTEND;TZID=Europe/Rome:20210429T200000
DTSTAMP:20260422T235906
CREATED:20210424T215819Z
LAST-MODIFIED:20210424T220347Z
UID:2392-1619719200-1619726400@viatrivero.staging.19.coop
SUMMARY:ASSEMBLEA ORDINARIA DEI SOCI
DESCRIPTION:convocazione \nL’Assemblea ordinaria di VOLERE LA LUNA è fissata\, in prima convocazione\, mercoledì 28 aprile 2021 alle ore 03.00 e\, in seconda convocazione \ngiovedì 29 aprile 2021 alle ore 18.00\nsulla piattaforma ZOOM \ncon il seguente ordine del giorno: \n\nRelazione sull’attività svolta. Discussione e proposte.\n2. Rendiconto finanziario al 31 dicembre 2020. Relazione illustrativa e deliberazioni conseguenti.\n3. Rendiconto preventivo 2021. Relazione illustrativa e deliberazioni conseguenti.\n4. Integrazione del consiglio direttivo a seguito delle dimissioni di Fulvio Perini.\n5. Varie ed eventuali.\n\nAllegati\n– rendiconto finanziario al 31 dicembre 2020\n– rendiconto preventivo 2021 \nAttenzione: \n\nIn base allo statuto possono partecipare all’assemblea ed esercitare il diritto di voto\, direttamente o per delega\, tutti i soci iscritti entro il mese di febbraio 2021 e in regola con il pagamento della quota 2021 all’11 aprile 2021 (e\, dunque\, tutti coloro che ricevono questa mail). Ogni delegato può avere un massimo di tre deleghe.\nchi non potrà essere presente di persona e intende rilasciare delega può farlo rispondendo\, entro il 28 aprile\, a questo messaggio e scrivendo: «Io sottoscritto/a (cognome e nome) delego a rappresentarmi nell’assemblea ordinaria di VOLERE LA LUNA di giovedì 29 aprile 2021 il/la socio/a ……………………». Al fine di evitare deleghe nulle ‒ perché rilasciate a socio/a non presente o con numero di deleghe superiore al massimo consentito ‒ chi delega deve accertarsi della presenza del delegato o lasciare in bianco il suo nome (con autorizzazione alla presidenza dell’assemblea di provvedere al completamento).\n\nTorino\, 12 aprile 2021 \nIl presidente\nLivio Pepino
URL:https://viatrivero.staging.19.coop/evento/assemblea-ordinaria-dei-soci/
CATEGORIES:News
END:VEVENT
BEGIN:VEVENT
DTSTART;TZID=Europe/Rome:20210428T080000
DTEND;TZID=Europe/Rome:20210428T120000
DTSTAMP:20260422T235906
CREATED:20210425T053344Z
LAST-MODIFIED:20210425T053602Z
UID:2432-1619596800-1619611200@viatrivero.staging.19.coop
SUMMARY:Aiuto Alimentare
DESCRIPTION:Distribuzione pacchi alimentari da parte di Marisa  Piergiorgio ed Enzo\, a  famiglie del territorio in difficoltà\, attivato dal Comune con il concorso del Banco Alimentare e della Casa del quartiere
URL:https://viatrivero.staging.19.coop/evento/aiuto-alimentare/
CATEGORIES:News
END:VEVENT
BEGIN:VEVENT
DTSTART;TZID=Europe/Rome:20210427T180000
DTEND;TZID=Europe/Rome:20210427T200000
DTSTAMP:20260422T235906
CREATED:20210424T220221Z
LAST-MODIFIED:20210424T220410Z
UID:2395-1619546400-1619553600@viatrivero.staging.19.coop
SUMMARY:La Fabbrica del Manifesto. Il decennio rosso 1969-1979
DESCRIPTION:Un nuovo incontro online a cura di Volere la luna. Presenteremo La Fabbrica del Manifesto. Il decennio rosso 1969-1979\, a cura di Luciana Castellina e Massimo Serafini (Manifestolibri\, 2020). Interverranno\, con gli autori\, Marco Revelli\, Gianni Usai\, Edi Lazzi. Modera la serata Jacopo Rosatelli.
URL:https://viatrivero.staging.19.coop/evento/la-fabbrica-del-manifesto-il-decennio-rosso-1969-1979/
CATEGORIES:News
END:VEVENT
BEGIN:VEVENT
DTSTART;TZID=Europe/Rome:20210426T150000
DTEND;TZID=Europe/Rome:20210426T170000
DTSTAMP:20260422T235906
CREATED:20210425T053802Z
LAST-MODIFIED:20210425T220143Z
UID:2440-1619449200-1619456400@viatrivero.staging.19.coop
SUMMARY:NO a un Recovery Plan per riprodurre l’esistente. Sì a un Recovery Planet per un’alternativa di società.
DESCRIPTION:Lunedì 26 aprile 2021 in contemporanea con il sit-in di MonteCitorio anche Società della Cura di Torino  \nNO a un Recovery Plan per riprodurre l’esistente.\nSì a un Recovery Planet per un’alternativa di società. \nPer vedere la diretta da MonteCitorio ore 15\,30:\nhttps://www.facebook.com/events/1038176026591286
URL:https://viatrivero.staging.19.coop/evento/sistemazione-bibblioteca/
CATEGORIES:News
END:VEVENT
BEGIN:VEVENT
DTSTART;TZID=Europe/Rome:20210424T150000
DTEND;TZID=Europe/Rome:20210424T170000
DTSTAMP:20260422T235906
CREATED:20210424T223255Z
LAST-MODIFIED:20210425T053952Z
UID:2426-1619276400-1619283600@viatrivero.staging.19.coop
SUMMARY:Difendiamo il pratone di Via Madonna Delle Salette
DESCRIPTION:Sabato 24 Aprile iniziativa a Parella per difendere il pratone di Via Madonna Delle Salette
URL:https://viatrivero.staging.19.coop/evento/per-difendere-il-pratone-di-via-madonna-delle-salette/
CATEGORIES:News
END:VEVENT
BEGIN:VEVENT
DTSTART;TZID=Europe/Rome:20210423T120000
DTEND;TZID=Europe/Rome:20210423T170000
DTSTAMP:20260422T235906
CREATED:20210326T164559Z
LAST-MODIFIED:20210425T054007Z
UID:1728-1619179200-1619197200@viatrivero.staging.19.coop
SUMMARY:Distribuzione pasti
DESCRIPTION:La distribuzione pasti in  collaborazione  con il Circolo Gramsci viene effettuata tutti i venerdì da Enzo e  Gabriella
URL:https://viatrivero.staging.19.coop/evento/distribuzione-pasti-2/
CATEGORIES:News
END:VEVENT
BEGIN:VEVENT
DTSTART;TZID=Europe/Rome:20210422T160000
DTEND;TZID=Europe/Rome:20210422T190000
DTSTAMP:20260422T235906
CREATED:20210424T215550Z
LAST-MODIFIED:20210424T220444Z
UID:2389-1619107200-1619118000@viatrivero.staging.19.coop
SUMMARY:PENSIERO UNICO DISSENSO REPRESSIONE
DESCRIPTION:CENTRO PER LA RIFORMA DELLO STATO\nCONTROSSERVATORIO VALSUSA\nFONDAZIONE LELIO E LISLI BASSO\nSOCIETÀ DELLA RAGIONE\nSTUDI SULLA QUESTIONE CRIMINALE\nUDIPALERMO\nVOLERE LA LUNA \nPENSIERO UNICO\nDISSENSO\nREPRESSIONE \nGIOVEDÌ 22 APRILE 2021\nORE 16.00-19.00\nDIRETTA STREAMING\nhttps://youtu.be/phegbdRB_Hc \nORE 16.00 INTRODUZIONE\nLA DEMOCRAZIA ALLA PROVA DEL DISSENSO\nE DEL CONFLITTO\nLIVIO PEPINO\nDANIELA DIOGUARDI \nORE 16.40 RELAZIONI\nIL CASO VALSUSA\nLA POLITICA\, L’INFORMAZIONE\, GLI APPARATI\nXENIA CHIARAMONTE\nI MIGRANTI E LA CRIMINALIZZAZIONE DEL SALVATAGGIO\nE DELL’ACCOGLIENZA\nLORENZO TRUCCO\nIL CONFLITTO SOCIALE\nUN RITORNO AGLI ANNI CINQUANTA?\nCLAUDIO NOVARO\nUNO SGUARDO ALL’EUROPA\nL’INDIPENDENTISMO CATALANO ALLA SBARRA\nROSSELLA SELMINI \nORE 17.40 INTERVENTI\nILARIA BOIANO\nNICOLETTA DOSIO\nFRANCO FOCARETA\nLORENA FORNASIR\nFRANCESCO MARTONE\nFILIPPO MIRAGLIA\nMARINA PROSPERI \nORE 18.50 CONCLUSIONI\nMARIA LUISA BOCCIA
URL:https://viatrivero.staging.19.coop/evento/pensiero-unico-dissenso-repressione/
CATEGORIES:News
END:VEVENT
BEGIN:VEVENT
DTSTART;TZID=Europe/Rome:20210417T110000
DTEND;TZID=Europe/Rome:20210417T170000
DTSTAMP:20260422T235906
CREATED:20210424T223106Z
LAST-MODIFIED:20210424T223106Z
UID:2423-1618657200-1618678800@viatrivero.staging.19.coop
SUMMARY:per tutelare il diritto all’aborto libero\, sicuro\, accessibile
DESCRIPTION:Sabato 17 aprile manifestazione indetta da Non Una Di Meno\, per tutelare il diritto all’aborto libero\, sicuro\, accessibile
URL:https://viatrivero.staging.19.coop/evento/per-tutelare-il-diritto-allaborto-libero-sicuro-accessibile/
CATEGORIES:News
END:VEVENT
BEGIN:VEVENT
DTSTART;TZID=Europe/Rome:20210415T180000
DTEND;TZID=Europe/Rome:20210415T200000
DTSTAMP:20260422T235906
CREATED:20210424T221714Z
LAST-MODIFIED:20210424T221714Z
UID:2407-1618509600-1618516800@viatrivero.staging.19.coop
SUMMARY:DIRETTIVO
DESCRIPTION:
URL:https://viatrivero.staging.19.coop/evento/direttivo-3/
CATEGORIES:News
END:VEVENT
BEGIN:VEVENT
DTSTART;TZID=Europe/Rome:20210414T183000
DTEND;TZID=Europe/Rome:20210414T193000
DTSTAMP:20260422T235906
CREATED:20210424T222105Z
LAST-MODIFIED:20210424T222105Z
UID:2410-1618425000-1618428600@viatrivero.staging.19.coop
SUMMARY:Come uscire dalla crisi? Assumere nella pubblica amministrazione
DESCRIPTION:Un nuovo incontro online a cura di Volere la luna\, dopo la pubblicazione della proposta sul nostro sito (https://volerelaluna.it/…/come-uscire-dalla-crisi…/) i due coautori\, Guido Ortona e Pietro Terna\, ne parlano con Francesco Pallante.\nOgni incontro\, della durata di un’ora\, si svolgerà in videoconferenza utilizzando la piattaforma Zoom; è prevista un’introduzione del relatore\, uno o più interventi programmati e un confronto tra i presenti. Gli incontri possono essere seguiti in diretta streaming sul canale YouTube. Per seguire la diretta Zoom\, prenotate un posto iscrivendovi alla NEWSLETTER del venerdì a questo link
URL:https://viatrivero.staging.19.coop/evento/come-uscire-dalla-crisi-assumere-nella-pubblica-amministrazione/
CATEGORIES:News
END:VEVENT
BEGIN:VEVENT
DTSTART;TZID=Europe/Rome:20210414T080000
DTEND;TZID=Europe/Rome:20210414T170000
DTSTAMP:20260422T235906
CREATED:20211026T152737Z
LAST-MODIFIED:20211026T152737Z
UID:4127-1618387200-1618419600@viatrivero.staging.19.coop
SUMMARY:Come uscire dalla crisi? Assumere nella pubblica amministrazione
DESCRIPTION:
URL:https://viatrivero.staging.19.coop/evento/come-uscire-dalla-crisi-assumere-nella-pubblica-amministrazione-2/
CATEGORIES:News
END:VEVENT
BEGIN:VEVENT
DTSTART;TZID=Europe/Rome:20210401T180000
DTEND;TZID=Europe/Rome:20210401T200000
DTSTAMP:20260422T235906
CREATED:20210326T165057Z
LAST-MODIFIED:20210424T221144Z
UID:1731-1617300000-1617307200@viatrivero.staging.19.coop
SUMMARY:Direttivo
DESCRIPTION:
URL:https://viatrivero.staging.19.coop/evento/direttivo/
CATEGORIES:News
END:VEVENT
BEGIN:VEVENT
DTSTART;TZID=Europe/Rome:20210329T183000
DTEND;TZID=Europe/Rome:20210329T200000
DTSTAMP:20260422T235906
CREATED:20210326T164227Z
LAST-MODIFIED:20210424T222604Z
UID:1722-1617042600-1617048000@viatrivero.staging.19.coop
SUMMARY:Guido  Montanari Torino Futura
DESCRIPTION:Torino Futura. Riflessioni e proposte di un ex vicesindaco (Celid\, 2021)\nL’autore\, Guido Montanari\, ne discute con Jacopo Ricca e Jacopo Rosatelli \nUn nuovo incontro online a cura di Volere la luna\, dopo la pubblicazione del libro\nTorino Futura. Riflessioni e proposte di un ex vicesindaco (Celid\, 2021)\nNe discutiamo con l’autore Guido Montanari in dialogo con Jacopo Ricca e Jacopo Rosatelli\nOgni incontro\, della durata di un’ora\, si svolgerà in videoconferenza utilizzando la piattaforma Zoom; è prevista un’introduzione di 20 minuti del relatore\, uno o più interventi programmati e un confronto tra i presenti. Gli incontri possono essere seguiti in diretta streaming sul canale YouTube. Per seguire la diretta Zoom\, prenotate un posto iscrivendovi alla NEWSLETTER del venerdì a questo link\n  \n 
URL:https://viatrivero.staging.19.coop/evento/guido-montanari-torino-futura/
CATEGORIES:News
ATTACH;FMTTYPE=image/jpeg:https://viatrivero.staging.19.coop/wp-content/uploads/2021/03/montanari-scaled.jpg
END:VEVENT
BEGIN:VEVENT
DTSTART;TZID=Europe/Rome:20210328T120000
DTEND;TZID=Europe/Rome:20210328T140000
DTSTAMP:20260422T235906
CREATED:20210326T100500Z
LAST-MODIFIED:20210326T100503Z
UID:1698-1616932800-1616940000@viatrivero.staging.19.coop
SUMMARY:Pranzo sociale “d’asporto”
DESCRIPTION:L’Associazione dei sardi “A. Gramsci” invita i propri soci e amici a partecipare domenica 28 marzo al pranzo sociale “d’asporto” con un contributo di 20€. \n  \nIl menù  è quello della tradizione: \n– salsiccia\, pecorino Fiore sardo e olive \n– malloreddus alla campidanese  \n– maialetto arrosto con patate. \nRitiro dalle 12:30 alle 14:00 presso la sede in via Musiné 5/7 oppure consegna a domicilio (min. 3 menù) con rispetto norme Covid. \nPrenotazione obbligatoria entro venerdì 26 marzo al numero 370 1550043
URL:https://viatrivero.staging.19.coop/evento/pranzo-sociale-dasporto/
ATTACH;FMTTYPE=image/jpeg:https://viatrivero.staging.19.coop/wp-content/uploads/2020/11/2019-12-15-pranzobollito-scaled.jpg
END:VEVENT
BEGIN:VEVENT
DTSTART;TZID=Europe/Rome:20210326T000000
DTEND;TZID=Europe/Rome:20210326T060000
DTSTAMP:20260422T235906
CREATED:20210303T021215Z
LAST-MODIFIED:20210326T163838Z
UID:1194-1616716800-1616738400@viatrivero.staging.19.coop
SUMMARY:Distribuzione pasti
DESCRIPTION:ATTENZIONE \nLa distribuzione pasti in  collaborazione  con il Circolo Gramsci viene effettuata tutti i venerdì da Enzo e  Gabriella
URL:https://viatrivero.staging.19.coop/evento/distribuzione-pasti/
CATEGORIES:News
END:VEVENT
BEGIN:VEVENT
DTSTART;TZID=Europe/Rome:20210323T183000
DTEND;TZID=Europe/Rome:20210323T200000
DTSTAMP:20260422T235906
CREATED:20210326T170130Z
LAST-MODIFIED:20210424T222842Z
UID:1738-1616524200-1616529600@viatrivero.staging.19.coop
SUMMARY:E allora le foibe? Dialogo con Eric Gobetti
DESCRIPTION:E allora le foibe? Dialogo con Eric Gobetti(Laterza\, 2021)\nUn nuovo incontro online a cura di Volere la luna\, dopo la pubblicazione del libro\nE allora le foibe? (Laterza\, 2021)\nNe discutiamo con l’autore Eric Gobetti in dialogo con Fulvio Gambotto. \nOgni incontro\, della durata di un’ora\, si svolgerà in videoconferenza utilizzando la piattaforma Zoom; è prevista un’introduzione di 20 minuti del relatore\, uno o più interventi programmati e un confronto tra i presenti. Gli incontri possono essere seguiti in diretta streaming sul canale YouTube. Per seguire la diretta Zoom\, prenotate un posto iscrivendovi alla NEWSLETTER del venerdì a questo link
URL:https://viatrivero.staging.19.coop/evento/e-allora-le-foibe-dialogo-con-eric-gobetti/
CATEGORIES:News
END:VEVENT
BEGIN:VEVENT
DTSTART;TZID=Europe/Rome:20210322T180000
DTEND;TZID=Europe/Rome:20210322T200000
DTSTAMP:20260422T235906
CREATED:20210326T165223Z
LAST-MODIFIED:20210326T165225Z
UID:1735-1616436000-1616443200@viatrivero.staging.19.coop
SUMMARY:Direttivo
DESCRIPTION:
URL:https://viatrivero.staging.19.coop/evento/direttivo-2/
END:VEVENT
BEGIN:VEVENT
DTSTART;TZID=Europe/Rome:20210322T090000
DTEND;TZID=Europe/Rome:20210322T120000
DTSTAMP:20260422T235906
CREATED:20210303T021046Z
LAST-MODIFIED:20210326T163755Z
UID:1191-1616403600-1616414400@viatrivero.staging.19.coop
SUMMARY:Distribuzione pacchi
DESCRIPTION:
URL:https://viatrivero.staging.19.coop/evento/distribuzione-pacchi/
LOCATION:Via Trivero\, Via Trivero 16\, Torino\, 10024\, Italia
CATEGORIES:News
END:VEVENT
BEGIN:VEVENT
DTSTART;TZID=Europe/Rome:20210316T183000
DTEND;TZID=Europe/Rome:20210316T200000
DTSTAMP:20260422T235906
CREATED:20210326T170434Z
LAST-MODIFIED:20210326T171014Z
UID:1743-1615919400-1615924800@viatrivero.staging.19.coop
SUMMARY:Cambiamo la scuola. Per un’istruzione a forma di persona
DESCRIPTION:Cambiamo la scuola. Per un’istruzione a forma di persona\n(Eris\, 2021)\ncon gli autori\, Chiara Foà e Matteo Saudino. Introduce Sabrina Di Carlo
URL:https://viatrivero.staging.19.coop/evento/cambiamo-la-scuola-per-unistruzione-a-forma-di-persona/
END:VEVENT
BEGIN:VEVENT
DTSTART;TZID=Europe/Rome:20210303T080000
DTEND;TZID=Europe/Rome:20210303T170000
DTSTAMP:20260422T235906
CREATED:20210303T020853Z
LAST-MODIFIED:20210303T020915Z
UID:1187-1614758400-1614790800@viatrivero.staging.19.coop
SUMMARY:Affissione volantini
DESCRIPTION:
URL:https://viatrivero.staging.19.coop/evento/affissione-volantini/
LOCATION:Via Trivero\, Via Trivero 16\, Torino\, 10024\, Italia
END:VEVENT
BEGIN:VEVENT
DTSTART;TZID=Europe/Rome:20210302T183000
DTEND;TZID=Europe/Rome:20210302T200000
DTSTAMP:20260422T235906
CREATED:20210215T155743Z
LAST-MODIFIED:20210326T171144Z
UID:831-1614709800-1614715200@viatrivero.staging.19.coop
SUMMARY:Incontro web legge proporzionale
DESCRIPTION:Evento particolarmente importante che richiede una forte partecipazione.\nAppuntamento per tutti davanti al cinema Lux in galleria San Federico ore 10.30 \nPranzo a sacco
URL:https://viatrivero.staging.19.coop/evento/direttivo-allargato-2/
LOCATION:Cinema  Lux Torino\, Galleria San Federico 10\, Torino\, Italia
CATEGORIES:News
ATTACH;FMTTYPE=image/jpeg:https://viatrivero.staging.19.coop/wp-content/uploads/2021/02/sportelli2-scaled-e1614725215887.jpg
END:VEVENT
BEGIN:VEVENT
DTSTART;TZID=Europe/Rome:20210223T183000
DTEND;TZID=Europe/Rome:20210223T200000
DTSTAMP:20260422T235906
CREATED:20210326T171528Z
LAST-MODIFIED:20210326T171532Z
UID:1753-1614105000-1614110400@viatrivero.staging.19.coop
SUMMARY:Elogio delle tasse\, Francesco Pallante
DESCRIPTION:Elogio delle tasse\, Francesco Pallante dialoga con Livio Pepino
URL:https://viatrivero.staging.19.coop/evento/elogio-delle-tasse-francesco-pallante/
END:VEVENT
BEGIN:VEVENT
DTSTART;TZID=Europe/Rome:20210127T080000
DTEND;TZID=Europe/Rome:20210127T170000
DTSTAMP:20260422T235906
CREATED:20211026T151727Z
LAST-MODIFIED:20211026T151727Z
UID:4113-1611734400-1611766800@viatrivero.staging.19.coop
SUMMARY:Migrazioni\, rotta balcanica\, Europa
DESCRIPTION:con Alessandra Algostino e Gianfranco Schiavone
URL:https://viatrivero.staging.19.coop/evento/migrazioni-rotta-balcanica-europa-2/
END:VEVENT
BEGIN:VEVENT
DTSTART;TZID=Europe/Rome:20210120T080000
DTEND;TZID=Europe/Rome:20210120T170000
DTSTAMP:20260422T235906
CREATED:20211026T145454Z
LAST-MODIFIED:20211026T145507Z
UID:4103-1611129600-1611162000@viatrivero.staging.19.coop
SUMMARY:La marcia su Capitol Hill e lo stato di salute della democrazia
DESCRIPTION:con Betta Grande\, Marco Revelli e Gian Giacomo Migone \n  \n  \n  \n 
URL:https://viatrivero.staging.19.coop/evento/la-marcia-su-capitol-hill-e-lo-stato-di-salute-della-democrazia/
CATEGORIES:News
END:VEVENT
END:VCALENDAR