BEGIN:VCALENDAR
VERSION:2.0
PRODID:-//Via Trivero - Volere La Luna - ECPv6.15.17.1//NONSGML v1.0//EN
CALSCALE:GREGORIAN
METHOD:PUBLISH
X-WR-CALNAME:Via Trivero - Volere La Luna
X-ORIGINAL-URL:https://viatrivero.staging.19.coop
X-WR-CALDESC:Eventi per Via Trivero - Volere La Luna
REFRESH-INTERVAL;VALUE=DURATION:PT1H
X-Robots-Tag:noindex
X-PUBLISHED-TTL:PT1H
BEGIN:VTIMEZONE
TZID:Europe/Rome
BEGIN:DAYLIGHT
TZOFFSETFROM:+0100
TZOFFSETTO:+0200
TZNAME:CEST
DTSTART:20200329T010000
END:DAYLIGHT
BEGIN:STANDARD
TZOFFSETFROM:+0200
TZOFFSETTO:+0100
TZNAME:CET
DTSTART:20201025T010000
END:STANDARD
BEGIN:DAYLIGHT
TZOFFSETFROM:+0100
TZOFFSETTO:+0200
TZNAME:CEST
DTSTART:20210328T010000
END:DAYLIGHT
BEGIN:STANDARD
TZOFFSETFROM:+0200
TZOFFSETTO:+0100
TZNAME:CET
DTSTART:20211031T010000
END:STANDARD
BEGIN:DAYLIGHT
TZOFFSETFROM:+0100
TZOFFSETTO:+0200
TZNAME:CEST
DTSTART:20220327T010000
END:DAYLIGHT
BEGIN:STANDARD
TZOFFSETFROM:+0200
TZOFFSETTO:+0100
TZNAME:CET
DTSTART:20221030T010000
END:STANDARD
BEGIN:DAYLIGHT
TZOFFSETFROM:+0100
TZOFFSETTO:+0200
TZNAME:CEST
DTSTART:20230326T010000
END:DAYLIGHT
BEGIN:STANDARD
TZOFFSETFROM:+0200
TZOFFSETTO:+0100
TZNAME:CET
DTSTART:20231029T010000
END:STANDARD
END:VTIMEZONE
BEGIN:VEVENT
DTSTART;TZID=Europe/Rome:20220227T153000
DTEND;TZID=Europe/Rome:20220227T170000
DTSTAMP:20260421T012953
CREATED:20220209T205134Z
LAST-MODIFIED:20220209T205134Z
UID:4990-1645975800-1645981200@viatrivero.staging.19.coop
SUMMARY:Centro Studi Sereno Regis\, Via Garibaldi 13\, Torino  Kubo e la spada magica di Travis Knight (USA 2016\, 101’)
DESCRIPTION:Domenica 27 febbraio 2022 ore 15\,30 \nCentro Studi Sereno Regis\, Via Garibaldi 13\, Torino \nKubo e la spada magica di Travis Knight (USA 2016\, 101’)
URL:https://viatrivero.staging.19.coop/evento/centro-studi-sereno-regis-via-garibaldi-13-torino-kubo-e-la-spada-magica-di-travis-knight-usa-2016-101/
CATEGORIES:News
END:VEVENT
BEGIN:VEVENT
DTSTART;TZID=Europe/Rome:20220226T110000
DTEND;TZID=Europe/Rome:20220226T120000
DTSTAMP:20260421T012953
CREATED:20220227T165719Z
LAST-MODIFIED:20220227T165719Z
UID:5181-1645873200-1645876800@viatrivero.staging.19.coop
SUMMARY:Manifestazione per la pace in Ucraina a Torino
DESCRIPTION:Torino\, 26/2\, h. 11:00\, Piazza Castello
URL:https://viatrivero.staging.19.coop/evento/manifestazione-per-la-pace-in-ucraina-a-torino/
CATEGORIES:News
END:VEVENT
BEGIN:VEVENT
DTSTART;TZID=Europe/Rome:20220225T080000
DTEND;TZID=Europe/Rome:20220225T170000
DTSTAMP:20260421T012953
CREATED:20220209T205405Z
LAST-MODIFIED:20220209T205405Z
UID:4994-1645776000-1645808400@viatrivero.staging.19.coop
SUMMARY:MOSTRA DI  BANKSY A TORINO PORTA NUOVA - PALAZZO DEGLI STEMMI
DESCRIPTION:MOSTRA DI BANKSY A TORINO PORTA NUOVA – PALAZZO DEGLI STEMMI
URL:https://viatrivero.staging.19.coop/evento/mostra-di-banksy-a-torino-porta-nuova-palazzo-degli-stemmi/
CATEGORIES:News
END:VEVENT
BEGIN:VEVENT
DTSTART;TZID=Europe/Rome:20220220T153000
DTEND;TZID=Europe/Rome:20220220T170000
DTSTAMP:20260421T012953
CREATED:20220209T205010Z
LAST-MODIFIED:20220209T205010Z
UID:4985-1645371000-1645376400@viatrivero.staging.19.coop
SUMMARY:CineTeatro Baretti\, Via Baretti 4\, Torino  Il piccolo Yeti di Jill Culton e Todd Wilderman (USA/Cina 2019\, 97’)
DESCRIPTION:Domenica 20 febbraio 2022 ore 15\,30 \nCineTeatro Baretti\, Via Baretti 4\, Torino \nIl piccolo Yeti di Jill Culton e Todd Wilderman (USA/Cina 2019\, 97’)
URL:https://viatrivero.staging.19.coop/evento/cineteatro-baretti-via-baretti-4-torino-il-piccolo-yeti-di-jill-culton-e-todd-wilderman-usa-cina-2019-97/
CATEGORIES:News
END:VEVENT
BEGIN:VEVENT
DTSTART;TZID=Europe/Rome:20220213T153000
DTEND;TZID=Europe/Rome:20220213T170000
DTSTAMP:20260421T012953
CREATED:20220209T204856Z
LAST-MODIFIED:20220209T205030Z
UID:4981-1644766200-1644771600@viatrivero.staging.19.coop
SUMMARY:Cinema Massimo\, Via Verdi 18\, Torino Onward – Oltre la magia di Dan Scanlon (USA 2020\, 99′)
DESCRIPTION:Domenica 13 febbraio 2022 ore 15\,30 \nCinema Massimo\, Via Verdi 18\, Torino \nOnward – Oltre la magia di Dan Scanlon (USA 2020\, 99′)
URL:https://viatrivero.staging.19.coop/evento/cinema-massimo-via-verdi-18-torino-onward-oltre-la-magia-di-dan-scanlon-usa-2020-99%e2%80%b2/
CATEGORIES:News
END:VEVENT
BEGIN:VEVENT
DTSTART;TZID=Europe/Rome:20220212T140000
DTEND;TZID=Europe/Rome:20220212T170000
DTSTAMP:20260421T012953
CREATED:20220209T204227Z
LAST-MODIFIED:20220209T204227Z
UID:4974-1644674400-1644685200@viatrivero.staging.19.coop
SUMMARY:LIBERTA' PER ÖCALAN  MILANO 12 FEBBRAIO H. 14 CONCENTRAMENTO PIAZZA CASTELLO/LARGO CAIROLI MANIFESTAZIONE E CORTEO PER LE VIE CITTADINE
DESCRIPTION:
URL:https://viatrivero.staging.19.coop/evento/liberta-per-ocalan-milano-12-febbraio-h-14-concentramento-piazza-castello-largo-cairoli-manifestazione-e-corteo-per-le-vie-cittadine/
CATEGORIES:News
END:VEVENT
BEGIN:VEVENT
DTSTART;TZID=Europe/Rome:20220211T180000
DTEND;TZID=Europe/Rome:20220211T180000
DTSTAMP:20260421T012953
CREATED:20220209T205541Z
LAST-MODIFIED:20220209T205541Z
UID:4997-1644602400-1644602400@viatrivero.staging.19.coop
SUMMARY:al Polo del ‘900 (via del Carmine 14\, Torino)  la cooperativa ASTRA ha organizzato un incontro sulla storia del PCI di Torino
DESCRIPTION:Venerdì 11 Febbraio ore 18:00 al Polo del ‘900 (via del Carmine 14\, Torino) \nla cooperativa ASTRA ha organizzato un incontro sulla storia del PCI di Torino
URL:https://viatrivero.staging.19.coop/evento/al-polo-del-900-via-del-carmine-14-torino-la-cooperativa-astra-ha-organizzato-un-incontro-sulla-storia-del-pci-di-torino/
CATEGORIES:News
END:VEVENT
BEGIN:VEVENT
DTSTART;TZID=Europe/Rome:20220209T150000
DTEND;TZID=Europe/Rome:20220209T170000
DTSTAMP:20260421T012953
CREATED:20220209T204748Z
LAST-MODIFIED:20220209T204748Z
UID:4978-1644418800-1644426000@viatrivero.staging.19.coop
SUMMARY:Palazzo Lascaris\, presidio
DESCRIPTION:  \nA pochi giorni dalla celebrazione della “Giornata della Memoria”\, in ricordo della shoah\, è una provocazione inaccettabile vedere dipinti quei giganti con la stella rossa che scacciano civili inermi: fingendo di dimenticare che furono i soldati dell’Armata Rossa a porre fine all’inferno di Auschwitz!\nCi uniamo quindi alla richiesta dell’ANPI\, rivolta alla Regione Piemonte\, di ritirare immediatamente quel manifesto provocatorio e fuori dal tempo.\nNon è accettabile che una istituzione pubblica si faccia strumento di un simile scempio.\nProponiamo a tutte le forze democratiche e antifasciste di
URL:https://viatrivero.staging.19.coop/evento/palazzo-lascaris-presidio/
CATEGORIES:News
END:VEVENT
BEGIN:VEVENT
DTSTART;TZID=Europe/Rome:20220207T150000
DTEND;TZID=Europe/Rome:20220207T170000
DTSTAMP:20260421T012953
CREATED:20211208T174714Z
LAST-MODIFIED:20211208T174714Z
UID:4629-1644246000-1644253200@viatrivero.staging.19.coop
SUMMARY:iniziativa con Tomaso Montanari
DESCRIPTION:lunedì 7 febbraio\, iniziativa con Tomaso Montanari (presentazione libro sul I Maggio curato da Roberto Patrucco);
URL:https://viatrivero.staging.19.coop/evento/iniziativa-con-tomaso-montanari/
CATEGORIES:News
END:VEVENT
BEGIN:VEVENT
DTSTART;TZID=Europe/Rome:20220126T180000
DTEND;TZID=Europe/Rome:20220126T180000
DTSTAMP:20260421T012953
CREATED:20211208T174556Z
LAST-MODIFIED:20211208T174556Z
UID:4625-1643220000-1643220000@viatrivero.staging.19.coop
SUMMARY:presentazione libro Sfruttamento 4.0 di Matteo Gaddi
DESCRIPTION:mercoledì 26 gennaio\, ore 18.00: presentazione libro Sfruttamento 4.0 di Matteo Gaddi
URL:https://viatrivero.staging.19.coop/evento/presentazione-libro-sfruttamento-4-0-di-matteo-gaddi/
CATEGORIES:News
END:VEVENT
BEGIN:VEVENT
DTSTART;TZID=Europe/Rome:20220121T150000
DTEND;TZID=Europe/Rome:20220121T170000
DTSTAMP:20260421T012953
CREATED:20211208T174458Z
LAST-MODIFIED:20211208T174458Z
UID:4622-1642777200-1642784400@viatrivero.staging.19.coop
SUMMARY:letture e musiche sulla Shoah a cura di Paolo Cerrato;
DESCRIPTION:venerdì 21 gennaio (in via Saccarelli): letture e musiche sulla Shoah a cura di Paolo Cerrato;
URL:https://viatrivero.staging.19.coop/evento/letture-e-musiche-sulla-shoah-a-cura-di-paolo-cerrato/
CATEGORIES:News
END:VEVENT
BEGIN:VEVENT
DTSTART;TZID=Europe/Rome:20220119T183000
DTEND;TZID=Europe/Rome:20220119T183000
DTSTAMP:20260421T012953
CREATED:20211208T174357Z
LAST-MODIFIED:20220110T070049Z
UID:4619-1642617000-1642617000@viatrivero.staging.19.coop
SUMMARY:Il Servizio sanitario regionale verso un’ulteriore privatizzazione?  Dalla Lombardia al Piemonte
DESCRIPTION:martedì 18 gennaio\, ore 17.30  \nin streaming sul canale Youtube di Volere la luna \n  \nIl Servizio sanitario regionale verso un’ulteriore privatizzazione?  \nDalla Lombardia al Piemonte  \nCoordina \nFrancesco Pallante (professore di Diritto costituzionale Università di Torino) \nIntervengono: \nStefano Magnone (segretario Anaao Assomed Lombardia)\,  \nRosella Zerbi (segretaria Ordine dei medici Provincia di Torino)\,  \nMassimo Villone (professore di Diritto costituzionale Università di Napoli)\, Gianni Tognoni (Dipartimento di Anestesia-Rianimazione Emergenza-Urgenza Policlinico Milano)  \n 
URL:https://viatrivero.staging.19.coop/evento/iniziativa-su-pnrr-e-sanita-organizzata/
CATEGORIES:News
END:VEVENT
BEGIN:VEVENT
DTSTART;TZID=Europe/Rome:20220118T210000
DTEND;TZID=Europe/Rome:20220118T210000
DTSTAMP:20260421T012953
CREATED:20220209T210010Z
LAST-MODIFIED:20220209T210010Z
UID:5003-1642539600-1642539600@viatrivero.staging.19.coop
SUMMARY:il mondo di Riccardo
DESCRIPTION:Martedì 18 gennaio 2022\, alle ore 21 al Cinema Massimo (Via Verdi 18 – Torino)\, Kublai Film\, in collaborazione con il Museo Nazionale del Cinema e con il contributo della Film Commission Torino Piemonte e il sostegno della Fondazione Compagnia di San Paolo e del Movimento Federalista Europeo\, presenta in anteprima mondiale il film “
URL:https://viatrivero.staging.19.coop/evento/il-mondo-di-riccardo-2/
CATEGORIES:News
END:VEVENT
BEGIN:VEVENT
DTSTART;TZID=Europe/Rome:20220118T210000
DTEND;TZID=Europe/Rome:20220118T210000
DTSTAMP:20260421T012953
CREATED:20220209T205833Z
LAST-MODIFIED:20220209T205833Z
UID:5000-1642539600-1642539600@viatrivero.staging.19.coop
SUMMARY:il mondo di Riccardo
DESCRIPTION:Martedì 18 gennaio 2022\, alle ore 21 al Cinema Massimo (Via Verdi 18 – Torino)\, Kublai Film\, in collaborazione con il Museo Nazionale del Cinema e con il contributo della Film Commission Torino Piemonte e il sostegno della Fondazione Compagnia di San Paolo e del Movimento Federalista Europeo\, presenta in anteprima mondiale il film “
URL:https://viatrivero.staging.19.coop/evento/il-mondo-di-riccardo/
CATEGORIES:News
END:VEVENT
BEGIN:VEVENT
DTSTART;TZID=Europe/Rome:20220112T173000
DTEND;TZID=Europe/Rome:20220112T180000
DTSTAMP:20260421T012953
CREATED:20211208T174150Z
LAST-MODIFIED:20220110T065944Z
UID:4616-1642008600-1642010400@viatrivero.staging.19.coop
SUMMARY:proiezione film Cent’anni dopo\, sulla storia del Pci\, con connesso dibattito;
DESCRIPTION:mercoledì 12 o giovedì 13 gennaio\, ore 18.00:
URL:https://viatrivero.staging.19.coop/evento/proiezione-film-centanni-dopo-sulla-storia-del-pci-con-connesso-dibattito/
CATEGORIES:News
END:VEVENT
BEGIN:VEVENT
DTSTART;TZID=Europe/Rome:20211222T183000
DTEND;TZID=Europe/Rome:20211222T203000
DTSTAMP:20260421T012953
CREATED:20211111T204717Z
LAST-MODIFIED:20211111T210707Z
UID:4354-1640197800-1640205000@viatrivero.staging.19.coop
SUMMARY:LA SALUTE DELLA COSMOPOLI. Introduce: Massimo Cuono.  Relatori: Alessandro Colombo e Maria Chiara Pievatolo.
DESCRIPTION:22 Dicembre nella sala grande del Circolo dei lettori di Torino (via Bogino 4)\nLa salute della cosmopoli. \nIntroduce: Massimo Cuono. \nRelatori: Alessandro Colombo e Maria Chiara Pievatolo. \n  \nDel deterioramento del pianeta è responsabile il modo di vita della specie dominante\, il modello economico e sociale prevalente nel mondo\, a cui viene imputato anche l’origine della pandemia. E la svolta verde proclamata dai piani di ripresa appare a molti inadeguata e ingannevole. \nDal link https://we.tl/t-aMsQTi16Ik è possibile scaricare la registrazione audio di «La salute della specie»  con Vittorio Agnoletto\, Alice Cauduro e Valentina Pazé. \nAppuntamento di La salute del mondo\, nostro XIV ciclo didattico\, ideato in sinergia con la Scuola “Costituente Terra” nata a Roma allo scoppio della pandemia. \nStudiosi di scienze naturali e sociali guideranno la nostra riflessione sulla salute dei popoli\, affetta da diseguaglianze nei destini collettivi; e su quella della cosmopoli\, erosa da competizioni esasperate e antagonismi feroci. \nL’ingresso libero fino a esaurimento posti\, come da DPCM\, per entrare al Circolo\, a partire dai 12 anni\, è necessario essere muniti di Green Pass. È obbligatorio\, a partire dai 6 anni\, indossare la mascherina anche in sala (dispositivo medico: chirurgica o FFP2; no di stoffa). \n  \n 
URL:https://viatrivero.staging.19.coop/evento/la-salute-della-cosmopoli-introduce-massimo-cuono-relatori-alessandro-colombo-e-maria-chiara-pievatolo/
CATEGORIES:News
END:VEVENT
BEGIN:VEVENT
DTSTART;TZID=Europe/Rome:20211210T183000
DTEND;TZID=Europe/Rome:20211210T203000
DTSTAMP:20260421T012953
CREATED:20211111T203515Z
LAST-MODIFIED:20211111T210748Z
UID:4346-1639161000-1639168200@viatrivero.staging.19.coop
SUMMARY:LA SALUTE DEL PIANETA La salute dei popoli.  Introduce: Adriano Favole. Relatori: Marco Aime e Valeria Ferraris. 
DESCRIPTION:10 Dicembre   \nnella sala grande del Circolo dei lettori di Torino (via Bogino 4)\nLa salute dei popoli.\nIntroduce: Adriano Favole.\nRelatori: Marco Aime e Valeria Ferraris. \nDel deterioramento del pianeta è responsabile il modo di vita della specie dominante\, il modello economico e sociale prevalente nel mondo\, a cui viene imputato anche l’origine della pandemia. E la svolta verde proclamata dai piani di ripresa appare a molti inadeguata e ingannevole. \ndal link https://we.tl/t-aMsQTi16Ik è possibile scaricare la registrazione audio di «La salute della specie»  con Vittorio Agnoletto\, Alice Cauduro e Valentina Pazé. \nAppuntamento di La salute del mondo\, nostro XIV ciclo didattico\, ideato in sinergia con la Scuola “Costituente Terra” nata a Roma allo scoppio della pandemia. \nStudiosi di scienze naturali e sociali guideranno la nostra riflessione sulla salute dei popoli\, affetta da diseguaglianze nei destini collettivi; e su quella della cosmopoli\, erosa da competizioni esasperate e antagonismi feroci. \nL’ingresso libero fino a esaurimento posti\, come da DPCM\, per entrare al Circolo\, a partire dai 12 anni\, è necessario essere muniti di Green Pass. È obbligatorio\, a partire dai 6 anni\, indossare la mascherina anche in sala (dispositivo medico: chirurgica o FFP2; no di stoffa). \n22 Dicembre\nLa salute della cosmopoli. \nIntroduce: Massimo Cuono. \nRelatori: Alessandro Colombo e Maria Chiara Pievatolo. \n  \n 
URL:https://viatrivero.staging.19.coop/evento/la-salute-del-pianeta-la-salute-dei-popoli-introduce-adriano-favole-relatori-marco-aime-e-valeria-ferraris/
CATEGORIES:News
END:VEVENT
BEGIN:VEVENT
DTSTART;TZID=Europe/Rome:20211208T080000
DTEND;TZID=Europe/Rome:20211208T170000
DTSTAMP:20260421T012954
CREATED:20211208T173143Z
LAST-MODIFIED:20211208T174021Z
UID:4612-1638950400-1638982800@viatrivero.staging.19.coop
SUMMARY:8 dicembre 2005 - 8 dicembre 2021. marcia NO TAV da Borgone a San Didero
DESCRIPTION:Una marcia\, No Tav da Borgone\,  al cantiere/fortino militarizzato di San Didero.\nIn occasione della ricorrenza dell’8 dicembre\, data simbolica legata all’anniversario degli scontri avvenuti nel 2005 nell’area del cantiere Torino-Lione di Venaus.
URL:https://viatrivero.staging.19.coop/evento/8-dicembre-2005-8-dicembre-2021-marcia-da-borgone-a-san-didero/
CATEGORIES:News
END:VEVENT
BEGIN:VEVENT
DTSTART;TZID=Europe/Rome:20211205T110000
DTEND;TZID=Europe/Rome:20211205T160000
DTSTAMP:20260421T012954
CREATED:20211111T205946Z
LAST-MODIFIED:20211111T205946Z
UID:4362-1638702000-1638720000@viatrivero.staging.19.coop
SUMMARY:VIVILIBRON CAMPIDOGLIO LIBRO SORPRESO
DESCRIPTION:VIVILIBRON CAMPIDOGLIO LIBRO SOSPESO \nVia Musinè 5/7 \nrecupera e mette in circolo libri salvati dal macero con momenti di festa per tutti.
URL:https://viatrivero.staging.19.coop/evento/vivilibron-campidoglio-libro-sorpreso/
CATEGORIES:News
END:VEVENT
BEGIN:VEVENT
DTSTART;TZID=Europe/Rome:20211129T080000
DTEND;TZID=Europe/Rome:20211129T170000
DTSTAMP:20260421T012954
CREATED:20211129T205830Z
LAST-MODIFIED:20211129T210137Z
UID:4593-1638172800-1638205200@viatrivero.staging.19.coop
SUMMARY:DIRETTIVO
DESCRIPTION:
URL:https://viatrivero.staging.19.coop/evento/direttivo-5/
END:VEVENT
BEGIN:VEVENT
DTSTART;TZID=Europe/Rome:20211127T080000
DTEND;TZID=Europe/Rome:20211127T170000
DTSTAMP:20260421T012954
CREATED:20211026T113346Z
LAST-MODIFIED:20211116T202426Z
UID:4081-1638000000-1638032400@viatrivero.staging.19.coop
SUMMARY:QUESTIONE ABITATIVA  E POLITICHE DELLA CASA A TORINO 
DESCRIPTION: in collaborazione con \nComunet-Officine Corsare  \nQUESTIONE ABITATIVA  \nE POLITICHE DELLA CASA A TORINO  \nTorino – via Trivero 16 \nsabato 27 novembre ore 10.00-12.30\, 14.30-17.30 \nLa grave situazione di disagio abitativo in corso interroga tutti i soggetti (istituzionali e non) che vivono dentro le contraddizioni della città e che quotidianamente si confrontano con la drammatica domanda di “casa”\, che proviene da una fascia di popolazione sempre più ampia: nuclei in condizione di indigenza assoluta ma anche famiglie in povertà relativa\, che non reggono i costi dell’abitare imposti dal mercato privato. La situazione è\, ormai da anni\, strutturale tanto che\, nel 2019\, Torino è stata definita la “capitale degli sfratti”. La norma blocca-sfratti prevista durante la pandemia ha reso poco significativi i dati riferiti all’anno 2020\, ma\, a seguito della riapertura delle procedure di rilascio in corso\, si calcola che gli sfratti saranno tra i 3500 e i 4000 entro dicembre. \nA Torino\, come in tutta Italia\, non si intravedono\, ad oggi\, politiche attive capaci di dare risposte efficaci (passaggio da “casa a casa”) al bisogno abitativo\, non solo a chi da anni sosta nelle graduatorie per le assegnazioni di case popolari (15.000 nuclei)\, ma anche a chi un tetto l’ha perso o lo sta per perdere. In questa condizione troviamo non solo nuclei con sfratto per morosità incolpevole (90%)\, per finita locazione o per pignoramento della prima casa\, ma anche nuclei sottoposti a sgomberi forzosi (campi nomadi)\, senza fissa dimora\, stranieri (in particolare extracomunitari)\, occupanti di stabili abbandonati da anni ecc. L’unica opzione praticata è il cosiddetto housing sociale\, che peraltro a Torino\, come nel resto d’Italia\, ha avuto un’applicazione limitata e poco o nulla efficace sia per i costi\, spesso inaccessibili\, che per le caratteristiche dei progetti\, finanziati per lo più da soggetti privati e/o di privato sociale. \nA fronte di ciò c’è un patrimonio di edilizia pubblica in stato di degrado\, per responsabilità di tutti gli attori competenti (a partire da ATC)\, che condiziona la vita quotidiana del “popolo delle case popolari” e di chi aspira a un alloggio popolare (senza potervi accedere per lo stato di abbandono in cui versano molti alloggi vuoti e non disponibili per le assegnazioni). C’è\, poi\, un altro dato determinante per la messa in opera di un’offerta abitativa utile a consumo di suolo zero: i 53.000 alloggi vuoti censiti dal Comune di Torino\, per lo più di proprietà di enti pubblici\, grandi imprese o enti diversi (Fondazioni). E c’è\, infine\, il capitolo del recupero dei tanti manufatti in disuso da anni e che contribuiscono al degrado dei territori. \nDi qui la necessità di una riflessione e di un confronto\, tesi a mettere in campo una rete sociale che stimoli un nuovo protagonismo sociale di sindacati\, associazioni e movimenti che hanno posto al centro il diritto all’abitare\, esigibile e universale. \nore10.00 \npresentazione del convegno \nLa questione abitativa a Torino \ncoordina Livio Pepino (Volere la Luna) \nore 10.15 \nrelazione introduttiva \nGiustino Scotto d’Aniello (sportello casa di Volere la Luna) \nore 10.45 \ninterventi programmati \nTommaso Frangioni (Università di Torino) \nMirella Cerniglia o Edoardo D’Amato (Comune di Torino) \nSimona Patria (ATC Torino) \nGiovani Baratta (Sicet) \nWally Falchi (Caritas Torino) \nErica Mangione (Comunet-Officine Corsare) \nMirella Calvano (Centro interculturale delle donne Alma Mater) \nore 12.00 \ndibattito  \n=%=%=%=%= \nQuali politiche per la casa?  \ncoordina Enzo di Dio  (Volere la Luna)  \nore 14.30 \ninterventi programmati \nRocco Albanese (Comunet Officine corsare-Sportello Casa) \nIvano Casalegno (Arteria Onlus) \nVincenzo Iatì (Unione inquilini) \nStefano Marchi (Asia-USB) \nDiego Montemagno (Acmos) \nMargherita Provenzano (Case occupate Borgo San Paolo) \nMariangela Rosolen (Attac) \nGianluca Vitale (Legal Team Italia) \nore 16.00 \ndibattito \nore 17.15 \nconclusioni \ninterverrà \nl’assessore alle Politiche sociali\, Salute\, Casa\, Diritti \nJacopo Rosatelli \n* Per la partecipazione è necessaria l’esibizione del green pass. \n** Nell’intervallo tra le sessioni del mattino e del pomeriggio sarà organizzato un pranzo in loco (una pastasciutta fumante e qualcosa a sorpresa) a offerta libera a partire da 10 euro. Per consentire la miglior organizzazione\, chi intende fermarsi a pranzo è pregato di segnalarlo entro giovedì 25 telefonando a Carlo (339 1250127) o Enzo (349 4735338).
URL:https://viatrivero.staging.19.coop/evento/questione-abitativa-che-fare/
CATEGORIES:News
END:VEVENT
BEGIN:VEVENT
DTSTART;TZID=Europe/Rome:20211117T180000
DTEND;TZID=Europe/Rome:20211117T200000
DTSTAMP:20260421T012954
CREATED:20211023T211837Z
LAST-MODIFIED:20211110T124516Z
UID:4074-1637172000-1637179200@viatrivero.staging.19.coop
SUMMARY:MATTI DA SLEGARE\, presentazione di Piccolo manuale di sopravvivenza in psichiatria di Ugo Zamburru e Angela Spalatro
DESCRIPTION:Matti da slegare\, presentazione di Piccolo manuale di sopravvivenza in psichiatria di Ugo Zamburru e Angela Spalatro (Edizioni Gruppo Abele\, 2021). Ne discute con gli autori ————. \n  \n 
URL:https://viatrivero.staging.19.coop/evento/matti-da-slegare-presentazione-di-piccolo-manuale-di-sopravvivenza-in-psichiatria-di-ugo-zamburru-e-angela-spalatro/
CATEGORIES:News
END:VEVENT
BEGIN:VEVENT
DTSTART;TZID=Europe/Rome:20211114T110000
DTEND;TZID=Europe/Rome:20211114T160000
DTSTAMP:20260421T012954
CREATED:20211111T205822Z
LAST-MODIFIED:20211111T205822Z
UID:4359-1636887600-1636905600@viatrivero.staging.19.coop
SUMMARY:VIVILIBRON CAMPIDOGLIO DEDICATO ALLE DONNE
DESCRIPTION:VIVILIBRON CAMPIDOGLIO DEDICATO ALLE DONNE \nVia Musinè 5/7 \nrecupera e mette in circolo libri salvati dal macero con momenti di festa per tutti.
URL:https://viatrivero.staging.19.coop/evento/vivilibron-campidoglio-dedicato-alle-donne/
CATEGORIES:News
END:VEVENT
BEGIN:VEVENT
DTSTART;TZID=Europe/Rome:20211112T183000
DTEND;TZID=Europe/Rome:20211112T203000
DTSTAMP:20260421T012954
CREATED:20211111T204139Z
LAST-MODIFIED:20211111T210849Z
UID:4350-1636741800-1636749000@viatrivero.staging.19.coop
SUMMARY:LA SALUTE DEL PIANETA – con Maurizio Pallante e Angelo Tartaglia. Modera Elia Bosco.
DESCRIPTION:LA SALUTE DEL PIANETA  \nvenerdì 12 novembre alle ore 18.30 – nella sala grande del Circolo dei lettori di Torino (via Bogino 4) \ncon Maurizio Pallante e Angelo Tartaglia. \nModera Elia Bosco. \nDel deterioramento del pianeta è responsabile il modo di vita della specie dominante\, il modello economico e sociale prevalente nel mondo\, a cui viene imputato anche l’origine della pandemia. E la svolta verde proclamata dai piani di ripresa appare a molti inadeguata e ingannevole. \nDal link https://we.tl/t-aMsQTi16Ik è possibile scaricare la registrazione audio di «La salute della specie»  con Vittorio Agnoletto\, Alice Cauduro e Valentina Pazé. \nAppuntamento di La salute del mondo\, nostro XIV ciclo didattico\, ideato in sinergia con la Scuola “Costituente Terra” nata a Roma allo scoppio della pandemia. \nStudiosi di scienze naturali e sociali guideranno la nostra riflessione sulla salute dei popoli\, affetta da diseguaglianze nei destini collettivi; e su quella della cosmopoli\, erosa da competizioni esasperate e antagonismi feroci. \nL’ingresso libero fino a esaurimento posti\, come da DPCM\, per entrare al Circolo\, a partire dai 12 anni\, è necessario essere muniti di Green Pass. È obbligatorio\, a partire dai 6 anni\, indossare la mascherina anche in sala (dispositivo medico: chirurgica o FFP2; no di stoffa). \n10 Dicembre\nLa salute dei popoli.\nIntroduce: Adriano Favole.\nRelatori: Marco Aime e Valeria Ferraris. \n22 Dicembre\nLa salute della cosmopoli. \nIntroduce: Massimo Cuono. \nRelatori: Alessandro Colombo e Maria Chiara Pievatolo. \n 
URL:https://viatrivero.staging.19.coop/evento/la-salute-del-pianeta-con-maurizio-pallante-e-angelo-tartaglia-modera-elia-bosco/
CATEGORIES:News
END:VEVENT
BEGIN:VEVENT
DTSTART;TZID=Europe/Rome:20211112T180000
DTEND;TZID=Europe/Rome:20211112T190000
DTSTAMP:20260421T012954
CREATED:20211110T123637Z
LAST-MODIFIED:20211110T123642Z
UID:4292-1636740000-1636743600@viatrivero.staging.19.coop
SUMMARY:ME LO HA DETTO IL BARBIERE DI SALVATORE TRIPODI
DESCRIPTION:
URL:https://viatrivero.staging.19.coop/evento/me-lo-ha-detto-il-barbiere-di-salvatore-tripodi/
CATEGORIES:News
END:VEVENT
BEGIN:VEVENT
DTSTART;TZID=Europe/Rome:20211111T173000
DTEND;TZID=Europe/Rome:20211111T193000
DTSTAMP:20260421T012954
CREATED:20211110T124209Z
LAST-MODIFIED:20211110T124213Z
UID:4297-1636651800-1636659000@viatrivero.staging.19.coop
SUMMARY:BANDITI NELLE VALLI VALDESI di LUCA PERRONE
DESCRIPTION:presentazione a Pinerolo- Teatro Sociale- giovedì 11 novembre ore 17\,30
URL:https://viatrivero.staging.19.coop/evento/banditi-nelle-valli-valdesi-di-luca-perrone/
CATEGORIES:News
END:VEVENT
BEGIN:VEVENT
DTSTART;TZID=Europe/Rome:20211110T180000
DTEND;TZID=Europe/Rome:20211110T200000
DTSTAMP:20260421T012954
CREATED:20211110T124407Z
LAST-MODIFIED:20211110T124412Z
UID:4302-1636567200-1636574400@viatrivero.staging.19.coop
SUMMARY:IL RACCONTO FOTOGRAFICO DI DARIO LANZARDO
DESCRIPTION:
URL:https://viatrivero.staging.19.coop/evento/il-racconto-fotografico-di-dario-lanzardo/
CATEGORIES:News
END:VEVENT
BEGIN:VEVENT
DTSTART;TZID=Europe/Rome:20211110T180000
DTEND;TZID=Europe/Rome:20211110T200000
DTSTAMP:20260421T012954
CREATED:20211023T211643Z
LAST-MODIFIED:20211110T124602Z
UID:4070-1636567200-1636574400@viatrivero.staging.19.coop
SUMMARY:QUALE SOCIALISMO NEL XXI SECOLO?
DESCRIPTION:Quale socialismo nel XXI secolo? In occasione dell’uscita della traduzione inglese di Socialismo di frontiera. Autorganizzazione e anticapitalismo di Monica Quirico e Gianfranco Ragona (edizione italiana Rosenberg & Sellier\, 2018)\, Livio Pepino discute con gli autori e con Paolo Ferrero (vicepresidente del Partito della sinistra europea) di scenari alternativi al capitalismo\, tra emergenza sanitaria e cambiamenti climatici.
URL:https://viatrivero.staging.19.coop/evento/quale-socialismo-nel-xxi-secolo/
CATEGORIES:News
END:VEVENT
BEGIN:VEVENT
DTSTART;TZID=Europe/Rome:20211106T150000
DTEND;TZID=Europe/Rome:20211106T200000
DTSTAMP:20260421T012954
CREATED:20211023T211532Z
LAST-MODIFIED:20211029T061956Z
UID:4067-1636210800-1636228800@viatrivero.staging.19.coop
SUMMARY:Seminario su Le ragioni della crisi / Spunti per uscirne - Riflettendo sulle analisi di Luciano Gallino a sei anni dalla morte\,
DESCRIPTION:Seminario su Le ragioni della crisi / Spunti per uscirne – Riflettendo sulle analisi di Luciano Gallino a sei anni dalla morte\, organizzato da Volere la Luna\, Centro Sereno Regis\, Comunet\, Controsservatorio Valsusa\, Scuola per la buona politica\, Sindacalmente\, Unione culturale. \nInterventi introduttivi di Riccardo Barbero\, Francesco Ciafaloni\, Toni Ferigo\, Davide Lovisolo\, Fulvio Perini. (Allegato documento base). \n 
URL:https://viatrivero.staging.19.coop/evento/seminario-su-le-ragioni-della-crisi-spunti-per-uscirne-riflettendo-sulle-analisi-di-luciano-gallino-a-sei-anni-dalla-morte/
CATEGORIES:News
END:VEVENT
BEGIN:VEVENT
DTSTART;TZID=Europe/Rome:20211026T080000
DTEND;TZID=Europe/Rome:20211026T170000
DTSTAMP:20260421T012954
CREATED:20211026T151437Z
LAST-MODIFIED:20211026T151437Z
UID:4110-1635235200-1635267600@viatrivero.staging.19.coop
SUMMARY:Migrazioni\, rotta balcanica\, Europa
DESCRIPTION:Migrazioni\, rotta balcanica\, Europa \ncon Alessandra Algostino e Gianfranco Schiavone
URL:https://viatrivero.staging.19.coop/evento/migrazioni-rotta-balcanica-europa/
END:VEVENT
END:VCALENDAR