BEGIN:VCALENDAR
VERSION:2.0
PRODID:-//Via Trivero - Volere La Luna - ECPv6.15.17.1//NONSGML v1.0//EN
CALSCALE:GREGORIAN
METHOD:PUBLISH
X-WR-CALNAME:Via Trivero - Volere La Luna
X-ORIGINAL-URL:https://viatrivero.staging.19.coop
X-WR-CALDESC:Eventi per Via Trivero - Volere La Luna
REFRESH-INTERVAL;VALUE=DURATION:PT1H
X-Robots-Tag:noindex
X-PUBLISHED-TTL:PT1H
BEGIN:VTIMEZONE
TZID:Europe/Rome
BEGIN:DAYLIGHT
TZOFFSETFROM:+0100
TZOFFSETTO:+0200
TZNAME:CEST
DTSTART:20210328T010000
END:DAYLIGHT
BEGIN:STANDARD
TZOFFSETFROM:+0200
TZOFFSETTO:+0100
TZNAME:CET
DTSTART:20211031T010000
END:STANDARD
BEGIN:DAYLIGHT
TZOFFSETFROM:+0100
TZOFFSETTO:+0200
TZNAME:CEST
DTSTART:20220327T010000
END:DAYLIGHT
BEGIN:STANDARD
TZOFFSETFROM:+0200
TZOFFSETTO:+0100
TZNAME:CET
DTSTART:20221030T010000
END:STANDARD
BEGIN:DAYLIGHT
TZOFFSETFROM:+0100
TZOFFSETTO:+0200
TZNAME:CEST
DTSTART:20230326T010000
END:DAYLIGHT
BEGIN:STANDARD
TZOFFSETFROM:+0200
TZOFFSETTO:+0100
TZNAME:CET
DTSTART:20231029T010000
END:STANDARD
END:VTIMEZONE
BEGIN:VEVENT
DTSTART;TZID=Europe/Rome:20220328T210000
DTEND;TZID=Europe/Rome:20220328T210000
DTSTAMP:20260420T044653
CREATED:20220227T173912Z
LAST-MODIFIED:20220227T173912Z
UID:5213-1648501200-1648501200@viatrivero.staging.19.coop
SUMMARY:presso la SOMS di Racconigi (Via Carlo Costa 23\, Racconigi) proiezione de Il Vangelo secondo Matteo (1964\, 137’).
DESCRIPTION:Lunedì 28 marzo ore 21 presso la SOMS di Racconigi (Via Carlo Costa 23\, Racconigi) proiezione de Il Vangelo secondo Matteo (1964\, 137’). I responsabili del Progetto Cantoregi dichiarano: “Abbiamo scelto il Vangelo di Pasolini in quanto pellicola capace di mettere in luce l’umanità\, più che la divinità di Gesù\, concentrandosi sui valori fondamentali di una società\, spesso dimenticati\, quali il bene\, l’amore\, la solidarietà e rispetto delle diversità\, temi da sempre cari alla nostra associazione”. Ingresso 5\,00 € per gli adulti\, 3\,00 € i bambini.
URL:https://viatrivero.staging.19.coop/evento/presso-la-soms-di-racconigi-via-carlo-costa-23-racconigi-proiezione-de-il-vangelo-secondo-matteo-1964-137/
LOCATION:to
CATEGORIES:News
END:VEVENT
END:VCALENDAR