BEGIN:VCALENDAR
VERSION:2.0
PRODID:-//Via Trivero - Volere La Luna - ECPv6.15.17.1//NONSGML v1.0//EN
CALSCALE:GREGORIAN
METHOD:PUBLISH
X-WR-CALNAME:Via Trivero - Volere La Luna
X-ORIGINAL-URL:https://viatrivero.staging.19.coop
X-WR-CALDESC:Eventi per Via Trivero - Volere La Luna
REFRESH-INTERVAL;VALUE=DURATION:PT1H
X-Robots-Tag:noindex
X-PUBLISHED-TTL:PT1H
BEGIN:VTIMEZONE
TZID:Europe/Rome
BEGIN:DAYLIGHT
TZOFFSETFROM:+0100
TZOFFSETTO:+0200
TZNAME:CEST
DTSTART:20210328T010000
END:DAYLIGHT
BEGIN:STANDARD
TZOFFSETFROM:+0200
TZOFFSETTO:+0100
TZNAME:CET
DTSTART:20211031T010000
END:STANDARD
BEGIN:DAYLIGHT
TZOFFSETFROM:+0100
TZOFFSETTO:+0200
TZNAME:CEST
DTSTART:20220327T010000
END:DAYLIGHT
BEGIN:STANDARD
TZOFFSETFROM:+0200
TZOFFSETTO:+0100
TZNAME:CET
DTSTART:20221030T010000
END:STANDARD
BEGIN:DAYLIGHT
TZOFFSETFROM:+0100
TZOFFSETTO:+0200
TZNAME:CEST
DTSTART:20230326T010000
END:DAYLIGHT
BEGIN:STANDARD
TZOFFSETFROM:+0200
TZOFFSETTO:+0100
TZNAME:CET
DTSTART:20231029T010000
END:STANDARD
END:VTIMEZONE
BEGIN:VEVENT
DTSTART;TZID=Europe/Rome:20220324T180000
DTEND;TZID=Europe/Rome:20220324T180000
DTSTAMP:20260420T080646
CREATED:20220227T173705Z
LAST-MODIFIED:20220227T173705Z
UID:5206-1648144800-1648144800@viatrivero.staging.19.coop
SUMMARY:resso l’Unione culturale (Via Cesare Battisti 4/b\, Torino) è in programma la lettura corale del testo Affabulazione condotta da Silvia Mercuriati
DESCRIPTION:Giovedì 24 marzo ore 18 presso l’Unione culturale (Via Cesare Battisti 4/b\, Torino) è in programma la lettura corale del testo Affabulazione condotta da Silvia Mercuriati. L’opera venne composta in prima stesura nel 1966 in un momento della vita di Pasolini caratterizzato da immobilità forzata. Pasolini scelse di lavorare sul mito\, un percorso di autocoscienza in una prospettiva culturale\, civile e politica che lo portò a dichiarare: “…nessuno potrà mai avere comprensione per la mia convalescenza e la conseguente ricaduta che è il periodo in cui ho scritto queste tragedie; rinascevo\, come si dice\, e regredivo…”. Ingresso libero.
URL:https://viatrivero.staging.19.coop/evento/resso-lunione-culturale-via-cesare-battisti-4-b-torino-e-in-programma-la-lettura-corale-del-testo-affabulazione-condotta-da-silvia-mercuriati/
LOCATION:to
CATEGORIES:News
END:VEVENT
BEGIN:VEVENT
DTSTART;TZID=Europe/Rome:20220324T180000
DTEND;TZID=Europe/Rome:20220324T180000
DTSTAMP:20260420T080646
CREATED:20220314T064246Z
LAST-MODIFIED:20220314T064246Z
UID:5359-1648144800-1648144800@viatrivero.staging.19.coop
SUMMARY:Quale clima\, quale transizione ecologica al tempo della guerra?
DESCRIPTION:24\, ore 18.00: Quale clima\, quale transizione ecologica al tempo della guerra?\, con Angelo Tartagia e esponenti di FFF e movimenti ambientalisti
URL:https://viatrivero.staging.19.coop/evento/quale-clima-quale-transizione-ecologica-al-tempo-della-guerra/
LOCATION:to
CATEGORIES:News
END:VEVENT
BEGIN:VEVENT
DTSTART;TZID=Europe/Rome:20220324T210000
DTEND;TZID=Europe/Rome:20220324T210000
DTSTAMP:20260420T080646
CREATED:20220227T173754Z
LAST-MODIFIED:20220227T173754Z
UID:5209-1648155600-1648155600@viatrivero.staging.19.coop
SUMMARY:presso Casa Fools (Via Eugenio Bava 39\, Torino) è in programma la proiezione de La rabbia di Davide Ferrario (2000\, 52’)
DESCRIPTION:giovedì 24 marzo alle ore 21 presso Casa Fools (Via Eugenio Bava 39\, Torino) è in programma la proiezione de La rabbia di Davide Ferrario (2000\, 52’) alla presenza del regista che dichiara: “Un viaggio tra i quartieri popolari\, i set porno\, il carcere di San Vittore e la Bosnia osservati attraverso la filigrana del pensiero e dello scandalo pasoliniani”. Prima del film letture a cura di ArTeMuDa; l’appuntamento è realizzato in collaborazione con LiberAzioni festival. Ingresso con tessera ARCI.
URL:https://viatrivero.staging.19.coop/evento/presso-casa-fools-via-eugenio-bava-39-torino-e-in-programma-la-proiezione-de-la-rabbia-di-davide-ferrario-2000-52/
LOCATION:to
CATEGORIES:News
END:VEVENT
END:VCALENDAR