BEGIN:VCALENDAR
VERSION:2.0
PRODID:-//Via Trivero - Volere La Luna - ECPv6.15.17.1//NONSGML v1.0//EN
CALSCALE:GREGORIAN
METHOD:PUBLISH
X-WR-CALNAME:Via Trivero - Volere La Luna
X-ORIGINAL-URL:https://viatrivero.staging.19.coop
X-WR-CALDESC:Eventi per Via Trivero - Volere La Luna
REFRESH-INTERVAL;VALUE=DURATION:PT1H
X-Robots-Tag:noindex
X-PUBLISHED-TTL:PT1H
BEGIN:VTIMEZONE
TZID:Europe/Rome
BEGIN:DAYLIGHT
TZOFFSETFROM:+0100
TZOFFSETTO:+0200
TZNAME:CEST
DTSTART:20210328T010000
END:DAYLIGHT
BEGIN:STANDARD
TZOFFSETFROM:+0200
TZOFFSETTO:+0100
TZNAME:CET
DTSTART:20211031T010000
END:STANDARD
BEGIN:DAYLIGHT
TZOFFSETFROM:+0100
TZOFFSETTO:+0200
TZNAME:CEST
DTSTART:20220327T010000
END:DAYLIGHT
BEGIN:STANDARD
TZOFFSETFROM:+0200
TZOFFSETTO:+0100
TZNAME:CET
DTSTART:20221030T010000
END:STANDARD
BEGIN:DAYLIGHT
TZOFFSETFROM:+0100
TZOFFSETTO:+0200
TZNAME:CEST
DTSTART:20230326T010000
END:DAYLIGHT
BEGIN:STANDARD
TZOFFSETFROM:+0200
TZOFFSETTO:+0100
TZNAME:CET
DTSTART:20231029T010000
END:STANDARD
END:VTIMEZONE
BEGIN:VEVENT
DTSTART;TZID=Europe/Rome:20220316T080000
DTEND;TZID=Europe/Rome:20220316T180000
DTSTAMP:20260420T080829
CREATED:20220313T232841Z
LAST-MODIFIED:20220313T232841Z
UID:5350-1647417600-1647453600@viatrivero.staging.19.coop
SUMMARY:Di nuovo la guerra: come ci si è arrivati e come se ne può uscire
DESCRIPTION:Mercoledì 16 marzo alle 18.00 in via Trivero 16 parleremo – né potrebbe essere altrimenti – della guerra in Ucraina (“”) con Domenico Quirico\, Marco Revelli e Renzo Rosso (già addetto all’ambasciata italiana di Mosca). Introduce Valentina Pazé. La registrazione dell’incontro sarà pubblicata sul nostro canale youtube https://www.youtube.com/c/associazionevolerelaluna/videos \n 
URL:https://viatrivero.staging.19.coop/evento/di-nuovo-la-guerra-come-ci-si-e-arrivati-e-come-se-ne-puo-uscire/
LOCATION:to
CATEGORIES:News
END:VEVENT
BEGIN:VEVENT
DTSTART;TZID=Europe/Rome:20220316T190000
DTEND;TZID=Europe/Rome:20220316T190000
DTSTAMP:20260420T080829
CREATED:20220227T173422Z
LAST-MODIFIED:20220227T173422Z
UID:5200-1647457200-1647457200@viatrivero.staging.19.coop
SUMMARY:Cinema Teatro Maffei (Via Principe Tommaso 5\, Torino)  doppia proiezione  L’ultima partita di Pasolini di Giordano Viozzi (2019\, 62’) e Centoventi contro Novecento (2019\, 52′)
DESCRIPTION:Mercoledì 16 marzo ci si sposterà al Cinema Teatro Maffei (Via Principe Tommaso 5\, Torino) per una doppia proiezione dedicata al rapporto stretto e passionale tra Pier Paolo Pasolini e il calcio attraverso due documentari in anteprima regionale che lo ricordano tifoso e giocatore. L’ultima partita di Pasolini di Giordano Viozzi (2019\, 62’) è in programma alle ore 19; il regista presenterà il film in collegamento online per raccontare la genesi del film che ruota intorno all’ultima partita giocata da Pasolini\, il 14 settembre 1975. A seguire\, alle ore 20\,30\, sarà la volta di Centoventi contro Novecento (2019\, 52′) di Alessandro Di Nuzzo e Alessandro Scillitani\, alla presenza di quest’ultimo in sala. Marzo 1975\, in una domenica di primavera\, sul campo del parco della Cittadella di Parma\, si affrontano due singolari squadre di calcio: la rappresentativa della troupe di Salò o le centoventi giornate di Sodoma di Pasolini contro quella di Novecento di Bernardo Bertolucci. Due film che segneranno la storia del cinema italiano e che si stanno girando negli stessi giorni a pochi chilometri di distanza. Ingresso 5\,00 € con tessera Arci (entrambi i film 8\,00 €). \n“Prendiamo parte a questo omaggio con grande piacere\, – afferma Carlo Griseri – onorati di far coincidere il primo mese di programmazione del rinato Maffei con questa ricorrenza. Il pensiero di Pasolini rispecchia in pieno la filosofia con cui intendiamo portare avanti la programmazione multidisciplinare della sala. La scelta di uno sguardo alt
URL:https://viatrivero.staging.19.coop/evento/cinema-teatro-maffei-via-principe-tommaso-5-torino-doppia-proiezione-lultima-partita-di-pasolini-di-giordano-viozzi-2019-62-e-centoventi-contro/
LOCATION:to
CATEGORIES:News
END:VEVENT
END:VCALENDAR