BEGIN:VCALENDAR
VERSION:2.0
PRODID:-//Via Trivero - Volere La Luna - ECPv6.15.17.1//NONSGML v1.0//EN
CALSCALE:GREGORIAN
METHOD:PUBLISH
X-ORIGINAL-URL:https://viatrivero.staging.19.coop
X-WR-CALDESC:Eventi per Via Trivero - Volere La Luna
REFRESH-INTERVAL;VALUE=DURATION:PT1H
X-Robots-Tag:noindex
X-PUBLISHED-TTL:PT1H
BEGIN:VTIMEZONE
TZID:Europe/Rome
BEGIN:DAYLIGHT
TZOFFSETFROM:+0100
TZOFFSETTO:+0200
TZNAME:CEST
DTSTART:20210328T010000
END:DAYLIGHT
BEGIN:STANDARD
TZOFFSETFROM:+0200
TZOFFSETTO:+0100
TZNAME:CET
DTSTART:20211031T010000
END:STANDARD
BEGIN:DAYLIGHT
TZOFFSETFROM:+0100
TZOFFSETTO:+0200
TZNAME:CEST
DTSTART:20220327T010000
END:DAYLIGHT
BEGIN:STANDARD
TZOFFSETFROM:+0200
TZOFFSETTO:+0100
TZNAME:CET
DTSTART:20221030T010000
END:STANDARD
BEGIN:DAYLIGHT
TZOFFSETFROM:+0100
TZOFFSETTO:+0200
TZNAME:CEST
DTSTART:20230326T010000
END:DAYLIGHT
BEGIN:STANDARD
TZOFFSETFROM:+0200
TZOFFSETTO:+0100
TZNAME:CET
DTSTART:20231029T010000
END:STANDARD
END:VTIMEZONE
BEGIN:VEVENT
DTSTART;TZID=Europe/Rome:20220306T210000
DTEND;TZID=Europe/Rome:20220306T210000
DTSTAMP:20260420T063058
CREATED:20220227T173023Z
LAST-MODIFIED:20220227T173023Z
UID:5194-1646600400-1646600400@viatrivero.staging.19.coop
SUMMARY:Il mondo a scatti di Cecilia Mangini e Paolo Pisanelli (2021\, 89′) 
DESCRIPTION:al CineTeatro Baretti con la proiezione in anteprima de Il mondo a scatti di Cecilia Mangini e Paolo Pisanelli (2021\, 89′) alla presenza del regista\, ingresso 6\,00 €. “Nel nostro film – racconta Pisanelli – passiamo da uno scatto analogico dell’altro\, partiamo da un altro mondo\, da un tempo senza cellulare. Prima fotografa e poi regista di documentario\, compagna instancabile di Lino Dal Fra\, Cecilia Mangini ha lasciato un’eredità che sarebbe riduttivo riassumere negli oltre quaranta documentari e diversi lungometraggi che hanno punteggiato la sua attività. Amata da Pasolini che per lei scrisse il commento a Stendalì\, ispirò Ignoti alla città e La canta delle Marane. Considerata un’autorità da antropologi ed etnografi di tutto il mondo\, oggi il Museo degli Oscar le dedica una personale\, Medaglia del Presidente della Repubblica nel 2009\, Premio Maria Adriana Prolo nel 2020 questa regista battagliera e ribelle sempre col sorriso\, ha accompagnato tutte le trasformazioni del Paese per oltre mezzo secolo.”
URL:https://viatrivero.staging.19.coop/evento/il-mondo-a-scatti-di-cecilia-mangini-e-paolo-pisanelli-2021-89%e2%80%b2/
LOCATION:to
CATEGORIES:News
END:VEVENT
END:VCALENDAR