BEGIN:VCALENDAR
VERSION:2.0
PRODID:-//Via Trivero - Volere La Luna - ECPv6.15.17.1//NONSGML v1.0//EN
CALSCALE:GREGORIAN
METHOD:PUBLISH
X-WR-CALNAME:Via Trivero - Volere La Luna
X-ORIGINAL-URL:https://viatrivero.staging.19.coop
X-WR-CALDESC:Eventi per Via Trivero - Volere La Luna
REFRESH-INTERVAL;VALUE=DURATION:PT1H
X-Robots-Tag:noindex
X-PUBLISHED-TTL:PT1H
BEGIN:VTIMEZONE
TZID:Europe/Rome
BEGIN:DAYLIGHT
TZOFFSETFROM:+0100
TZOFFSETTO:+0200
TZNAME:CEST
DTSTART:20210328T010000
END:DAYLIGHT
BEGIN:STANDARD
TZOFFSETFROM:+0200
TZOFFSETTO:+0100
TZNAME:CET
DTSTART:20211031T010000
END:STANDARD
BEGIN:DAYLIGHT
TZOFFSETFROM:+0100
TZOFFSETTO:+0200
TZNAME:CEST
DTSTART:20220327T010000
END:DAYLIGHT
BEGIN:STANDARD
TZOFFSETFROM:+0200
TZOFFSETTO:+0100
TZNAME:CET
DTSTART:20221030T010000
END:STANDARD
BEGIN:DAYLIGHT
TZOFFSETFROM:+0100
TZOFFSETTO:+0200
TZNAME:CEST
DTSTART:20230326T010000
END:DAYLIGHT
BEGIN:STANDARD
TZOFFSETFROM:+0200
TZOFFSETTO:+0100
TZNAME:CET
DTSTART:20231029T010000
END:STANDARD
END:VTIMEZONE
BEGIN:VEVENT
DTSTART;TZID=Europe/Rome:20220305T210000
DTEND;TZID=Europe/Rome:20220305T210000
DTSTAMP:20260420T080646
CREATED:20220227T172858Z
LAST-MODIFIED:20220227T172858Z
UID:5191-1646514000-1646514000@viatrivero.staging.19.coop
SUMMARY:Il 1° novembre 1975 Pasolini rilasciò a Furio Colombo un’intervista:
DESCRIPTION:CineTeatro Baretti (Via Giuseppe Baretti 4\, Torino) dove andranno in scena diversi linguaggi. Il 1° novembre 1975 Pasolini rilasciò a Furio Colombo un’intervista: la densità delle riflessioni fu tale da portarlo a chiedere di rivedere il testo il giorno dopo\, ma quella notte Pasolini fu assassinato. Prima di congedarsi Colombo gli chiese un titolo\, da subito non rispose\, poi qualcosa lo riportò sull’argomento: “Ecco il seme\, il senso di tutto. Tu non sai neanche chi adesso sta pensando di ucciderti. Metti questo titolo\, se vuoi: siamo tutti in pericolo. L’intervista\, uscirà poi l’8 novembre 1975 su Tuttolibri. Lorenzo Fontana\, Olivia Manescalchi\, Monica Luccisano ripercorrono quel testo-testamento\, insieme ad altre parole poetiche e non\, intuizioni\, messaggi\, profezie che Pasolini consegnò al suo e al nostro tempo. A seguire proiezione del film Pasolini di Abel Ferrara con Willem Defoe\, con una breve introduzione video del regista; ingresso 6\,00 €.
URL:https://viatrivero.staging.19.coop/evento/il-1-novembre-1975-pasolini-rilascio-a-furio-colombo-unintervista/
LOCATION:to
CATEGORIES:News
END:VEVENT
END:VCALENDAR