BEGIN:VCALENDAR
VERSION:2.0
PRODID:-//Via Trivero - Volere La Luna - ECPv6.15.17.1//NONSGML v1.0//EN
CALSCALE:GREGORIAN
METHOD:PUBLISH
X-ORIGINAL-URL:https://viatrivero.staging.19.coop
X-WR-CALDESC:Eventi per Via Trivero - Volere La Luna
REFRESH-INTERVAL;VALUE=DURATION:PT1H
X-Robots-Tag:noindex
X-PUBLISHED-TTL:PT1H
BEGIN:VTIMEZONE
TZID:Europe/Rome
BEGIN:DAYLIGHT
TZOFFSETFROM:+0100
TZOFFSETTO:+0200
TZNAME:CEST
DTSTART:20200329T010000
END:DAYLIGHT
BEGIN:STANDARD
TZOFFSETFROM:+0200
TZOFFSETTO:+0100
TZNAME:CET
DTSTART:20201025T010000
END:STANDARD
BEGIN:DAYLIGHT
TZOFFSETFROM:+0100
TZOFFSETTO:+0200
TZNAME:CEST
DTSTART:20210328T010000
END:DAYLIGHT
BEGIN:STANDARD
TZOFFSETFROM:+0200
TZOFFSETTO:+0100
TZNAME:CET
DTSTART:20211031T010000
END:STANDARD
BEGIN:DAYLIGHT
TZOFFSETFROM:+0100
TZOFFSETTO:+0200
TZNAME:CEST
DTSTART:20220327T010000
END:DAYLIGHT
BEGIN:STANDARD
TZOFFSETFROM:+0200
TZOFFSETTO:+0100
TZNAME:CET
DTSTART:20221030T010000
END:STANDARD
END:VTIMEZONE
BEGIN:VEVENT
DTSTART;TZID=Europe/Rome:20210717T150000
DTEND;TZID=Europe/Rome:20210717T180000
DTSTAMP:20260421T011655
CREATED:20210710T191210Z
LAST-MODIFIED:20210710T192519Z
UID:3433-1626534000-1626544800@viatrivero.staging.19.coop
SUMMARY:MONDO BABONZO
DESCRIPTION:Mondo Babonzo: il Museo delle Creature Immaginarie \nrealizzate da Altan\, Benni & Perotti \ndalle ore 15\,00 di sabato 17 luglio 2021 \npresso Volerelaluna\, Via Trivero 16\, Torino  \naccesso libero \n  \nIl progetto Mondo Babonzo è stato concepito e realizzato per AMREF nel 2006 come mostra itinerante per raccogliere fondi\, per il miglioramento delle condizioni ambientali e sanitarie di alcune popolazioni del Kenya. Dopo essere stato a Milano\, Genova\, Napoli\, Palermo e Forlì\, viene ora presentato a Torino per la prima volta\, presso la sede di Volerelaluna (Via Trivero 16) a due passi dal Parco della Pellerina\, da sabato 17 luglio a sabato 2 ottobre con l’aggiunta di nuove creature immaginarie legate al particolare momento in cui viviamo. \nLa caratteristica che rende unica l’esposizione è che per la prima volta\, Francesco Tullio Altan e Stefano Benni hanno lavorato per un progetto artistico comune insieme all’amico e artista Pietro Perotti. Il Museo delle Creature Immaginarie unisce la scrittura di Benni\, autore\, umorista e poeta che fin dal 1984 con il libro Stranalandia\, tradotto in moltissime lingue\, si è occupato di creature immaginarie che si sono fuse con i disegni di Altan\, fumettista e illustratore conosciuto in tutto il mondo\, creatore di Cipputi e della Pimpa\, per prendere forma attraverso la grande manualità creativa di Perotti\, scultore e scenografo\, che ha realizzato le creature immaginate. \n  \nLa ricchezza di forme e colori della natura è una fonte di ispirazione fondamentale per la capacità di sognare\, di fantasticare e di creare: creazioni surreali come il Futurcane\, dotato di maschera antigas e missile sulla schiena\, il Porcospino autostradale\, con catarinfrangenti e aculei in grado di forare le gomme di un autotreno e ancora l’Ottoprosciotto\, il Camullo\, il Pappagatto\, il Topo Cagone\, il Babonzo\, sono solo alcune delle creature che accompagneranno il pubblico nella mostra. \n  \nL’iniziativa curata da Volerelaluna in collaborazione con l’Associazione Gramsci\, la casa di quartiere +Spazio+Quattro\, l’Associazione Museo Nazionale del Cinema e il patrocinio della Circoscrizione 4 della Città di Torino ha l’obiettivo di far “sentire” ai visitatori che l’immaginazione\, se è veramente libera\, non può che accompagnarsi alla tolleranza\, al rispetto per la natura\, all’interesse e all’empatia per le diversità. Un laboratorio aperto al pubblico consentirà ai più giovani di dare spazio alla loro fantasia realizzando le proprie creature che contribuiranno ad arricchire di giorno in giorno il museo. \n  \nDal martedì alla domenica dalle 15\,00 alle 18\,00 nei mesi di luglio e settembre\,  \ndurante il mese di agosto è preferibile la prenotazione presso i seguenti contatti:  \ntel.  371 444 22 75 – email  info@volerelaluna.it \nhttps://viatrivero.staging.19.coop/
URL:https://viatrivero.staging.19.coop/evento/mondo-babonzo/
LOCATION:to
CATEGORIES:News
END:VEVENT
END:VCALENDAR