BEGIN:VCALENDAR
VERSION:2.0
PRODID:-//Via Trivero - Volere La Luna - ECPv6.15.17.1//NONSGML v1.0//EN
CALSCALE:GREGORIAN
METHOD:PUBLISH
X-ORIGINAL-URL:https://viatrivero.staging.19.coop
X-WR-CALDESC:Eventi per Via Trivero - Volere La Luna
REFRESH-INTERVAL;VALUE=DURATION:PT1H
X-Robots-Tag:noindex
X-PUBLISHED-TTL:PT1H
BEGIN:VTIMEZONE
TZID:Europe/Rome
BEGIN:DAYLIGHT
TZOFFSETFROM:+0100
TZOFFSETTO:+0200
TZNAME:CEST
DTSTART:20200329T010000
END:DAYLIGHT
BEGIN:STANDARD
TZOFFSETFROM:+0200
TZOFFSETTO:+0100
TZNAME:CET
DTSTART:20201025T010000
END:STANDARD
BEGIN:DAYLIGHT
TZOFFSETFROM:+0100
TZOFFSETTO:+0200
TZNAME:CEST
DTSTART:20210328T010000
END:DAYLIGHT
BEGIN:STANDARD
TZOFFSETFROM:+0200
TZOFFSETTO:+0100
TZNAME:CET
DTSTART:20211031T010000
END:STANDARD
BEGIN:DAYLIGHT
TZOFFSETFROM:+0100
TZOFFSETTO:+0200
TZNAME:CEST
DTSTART:20220327T010000
END:DAYLIGHT
BEGIN:STANDARD
TZOFFSETFROM:+0200
TZOFFSETTO:+0100
TZNAME:CET
DTSTART:20221030T010000
END:STANDARD
END:VTIMEZONE
BEGIN:VEVENT
DTSTART;TZID=Europe/Rome:20210714T180000
DTEND;TZID=Europe/Rome:20210714T200000
DTSTAMP:20260420T235945
CREATED:20210628T190818Z
LAST-MODIFIED:20210628T190818Z
UID:3362-1626285600-1626292800@viatrivero.staging.19.coop
SUMMARY:DOVE CI PORTA IL PIANO il Piano Nazionale di Ripresa e Resilienza:  letture e discussioni
DESCRIPTION:mercoledì 14 luglio – 18.00-20.00\nIstruzione e ricerca\, Andrea Ranieri\nRiforma della Pubblica Amministrazione\, Vincenzo Cerulli\nRiforma del lavoro?\, Maria Vittoria Ballestrero\ncollegamento zoom: https://us02web.zoom.us/j/84816398056?\npwd=YW92dnRScnE1aUNkNTg1NkhDNy9jQT09
URL:https://viatrivero.staging.19.coop/evento/dove-ci-porta-il-piano-il-piano-nazionale-di-ripresa-e-resilienza-letture-e-discussioni-3/
LOCATION:to
CATEGORIES:News
END:VEVENT
BEGIN:VEVENT
DTSTART;TZID=Europe/Rome:20210714T200000
DTEND;TZID=Europe/Rome:20210714T230000
DTSTAMP:20260420T235945
CREATED:20210710T191720Z
LAST-MODIFIED:20210710T193320Z
UID:3437-1626292800-1626303600@viatrivero.staging.19.coop
SUMMARY:PRESENTAZIONE LIBRO “KEMIRRUSCHI\, LA STORIA DI MICHELE SCHIRRU IN 14DATE” DI MASSIMO LUNARDELLI (ABBA’ EDIZIONI)
DESCRIPTION:PRESENTAZIONELIBRO “KEMIRRUSCHI\, LA STORIA  DI MICHELE SCHIRRU IN 14 DATE” DI MASSIMO LUNARDELLI (ABBA’EDIZIONI) \n  \nAll’interno di\n“Educazione\, scuola e politica culturale nelle migrazioni italiane” \n14-16 luglio 2021\,Torino\nAssociazione VolerelaLuna\nviaTrivero16\,Torino\nh.20:00\nPartecipano:\nMassimo Lunardelli\, autore\nGiovanna Manca\, AbbàEdizioni\nFrancesco Pongiluppi\, Università di Torino\nEnzo Cugusi\, Associazione dei Sardi in Torino “Antonio Gramsci”
URL:https://viatrivero.staging.19.coop/evento/presentazionelibro-kemirruschila-storiadimicheleschirruin-14date-dimassimo-lunardelliabbaedizioni/
LOCATION:to
CATEGORIES:News
END:VEVENT
END:VCALENDAR