BEGIN:VCALENDAR
VERSION:2.0
PRODID:-//Via Trivero - Volere La Luna - ECPv6.15.17.1//NONSGML v1.0//EN
CALSCALE:GREGORIAN
METHOD:PUBLISH
X-WR-CALNAME:Via Trivero - Volere La Luna
X-ORIGINAL-URL:https://viatrivero.staging.19.coop
X-WR-CALDESC:Eventi per Via Trivero - Volere La Luna
REFRESH-INTERVAL;VALUE=DURATION:PT1H
X-Robots-Tag:noindex
X-PUBLISHED-TTL:PT1H
BEGIN:VTIMEZONE
TZID:Europe/Rome
BEGIN:DAYLIGHT
TZOFFSETFROM:+0100
TZOFFSETTO:+0200
TZNAME:CEST
DTSTART:20200329T010000
END:DAYLIGHT
BEGIN:STANDARD
TZOFFSETFROM:+0200
TZOFFSETTO:+0100
TZNAME:CET
DTSTART:20201025T010000
END:STANDARD
BEGIN:DAYLIGHT
TZOFFSETFROM:+0100
TZOFFSETTO:+0200
TZNAME:CEST
DTSTART:20210328T010000
END:DAYLIGHT
BEGIN:STANDARD
TZOFFSETFROM:+0200
TZOFFSETTO:+0100
TZNAME:CET
DTSTART:20211031T010000
END:STANDARD
BEGIN:DAYLIGHT
TZOFFSETFROM:+0100
TZOFFSETTO:+0200
TZNAME:CEST
DTSTART:20220327T010000
END:DAYLIGHT
BEGIN:STANDARD
TZOFFSETFROM:+0200
TZOFFSETTO:+0100
TZNAME:CET
DTSTART:20221030T010000
END:STANDARD
END:VTIMEZONE
BEGIN:VEVENT
DTSTART;TZID=Europe/Rome:20210707T180000
DTEND;TZID=Europe/Rome:20210707T200000
DTSTAMP:20260421T011714
CREATED:20210628T190716Z
LAST-MODIFIED:20210628T190734Z
UID:3359-1625680800-1625688000@viatrivero.staging.19.coop
SUMMARY:DOVE CI PORTA IL PIANO il Piano Nazionale di Ripresa e Resilienza:  letture e discussioni
DESCRIPTION:mercoledì 7 luglio – 18.00-20.00\nInfrastrutture\, ambiente e patrimonio culturale\, Tomaso Montanari\nSalute\, Nerina Dirindin\nRiforma del sistema giudiziario\, Nello Rossi\ncollegamento zoom: https://us02web.zoom.us/j/88004801884?\npwd=ekYwZ1I1bERPZ2VaQ0Fka1R6RnBoQT09
URL:https://viatrivero.staging.19.coop/evento/dove-ci-porta-il-piano-il-piano-nazionale-di-ripresa-e-resilienza-letture-e-discussioni-2/
LOCATION:to
CATEGORIES:News
END:VEVENT
END:VCALENDAR