BEGIN:VCALENDAR
VERSION:2.0
PRODID:-//Via Trivero - Volere La Luna - ECPv6.15.17.1//NONSGML v1.0//EN
CALSCALE:GREGORIAN
METHOD:PUBLISH
X-ORIGINAL-URL:https://viatrivero.staging.19.coop
X-WR-CALDESC:Eventi per Via Trivero - Volere La Luna
REFRESH-INTERVAL;VALUE=DURATION:PT1H
X-Robots-Tag:noindex
X-PUBLISHED-TTL:PT1H
BEGIN:VTIMEZONE
TZID:Europe/Rome
BEGIN:DAYLIGHT
TZOFFSETFROM:+0100
TZOFFSETTO:+0200
TZNAME:CEST
DTSTART:20200329T010000
END:DAYLIGHT
BEGIN:STANDARD
TZOFFSETFROM:+0200
TZOFFSETTO:+0100
TZNAME:CET
DTSTART:20201025T010000
END:STANDARD
BEGIN:DAYLIGHT
TZOFFSETFROM:+0100
TZOFFSETTO:+0200
TZNAME:CEST
DTSTART:20210328T010000
END:DAYLIGHT
BEGIN:STANDARD
TZOFFSETFROM:+0200
TZOFFSETTO:+0100
TZNAME:CET
DTSTART:20211031T010000
END:STANDARD
BEGIN:DAYLIGHT
TZOFFSETFROM:+0100
TZOFFSETTO:+0200
TZNAME:CEST
DTSTART:20220327T010000
END:DAYLIGHT
BEGIN:STANDARD
TZOFFSETFROM:+0200
TZOFFSETTO:+0100
TZNAME:CET
DTSTART:20221030T010000
END:STANDARD
END:VTIMEZONE
BEGIN:VEVENT
DTSTART;TZID=Europe/Rome:20210630T180000
DTEND;TZID=Europe/Rome:20210630T200000
DTSTAMP:20260421T011655
CREATED:20210628T190602Z
LAST-MODIFIED:20210628T190615Z
UID:3356-1625076000-1625083200@viatrivero.staging.19.coop
SUMMARY:DOVE CI PORTA IL PIANO il Piano Nazionale di Ripresa e Resilienza:  letture e discussioni
DESCRIPTION:mercoledì 30 giugno – 18.00-20.00\nDigitalizzazione e innovazione\, Luciano Paccagnella\nTransizione ecologica\, Angelo Tartaglia\nInclusione e coesione\,Chiara Saraceno\ncollegamento zoom: https://us02web.zoom.us/j/82870098185?\npwd=QzZNMjY5N0VoWTNmdHpiQnBZb2tKdz09
URL:https://viatrivero.staging.19.coop/evento/dove-ci-porta-il-piano-il-piano-nazionale-di-ripresa-e-resilienza-letture-e-discussioni/
LOCATION:to
CATEGORIES:News
END:VEVENT
END:VCALENDAR