BEGIN:VCALENDAR
VERSION:2.0
PRODID:-//Via Trivero - Volere La Luna - ECPv6.15.17.1//NONSGML v1.0//EN
CALSCALE:GREGORIAN
METHOD:PUBLISH
X-ORIGINAL-URL:https://viatrivero.staging.19.coop
X-WR-CALDESC:Eventi per Via Trivero - Volere La Luna
REFRESH-INTERVAL;VALUE=DURATION:PT1H
X-Robots-Tag:noindex
X-PUBLISHED-TTL:PT1H
BEGIN:VTIMEZONE
TZID:Europe/Rome
BEGIN:DAYLIGHT
TZOFFSETFROM:+0100
TZOFFSETTO:+0200
TZNAME:CEST
DTSTART:20200329T010000
END:DAYLIGHT
BEGIN:STANDARD
TZOFFSETFROM:+0200
TZOFFSETTO:+0100
TZNAME:CET
DTSTART:20201025T010000
END:STANDARD
BEGIN:DAYLIGHT
TZOFFSETFROM:+0100
TZOFFSETTO:+0200
TZNAME:CEST
DTSTART:20210328T010000
END:DAYLIGHT
BEGIN:STANDARD
TZOFFSETFROM:+0200
TZOFFSETTO:+0100
TZNAME:CET
DTSTART:20211031T010000
END:STANDARD
BEGIN:DAYLIGHT
TZOFFSETFROM:+0100
TZOFFSETTO:+0200
TZNAME:CEST
DTSTART:20220327T010000
END:DAYLIGHT
BEGIN:STANDARD
TZOFFSETFROM:+0200
TZOFFSETTO:+0100
TZNAME:CET
DTSTART:20221030T010000
END:STANDARD
END:VTIMEZONE
BEGIN:VEVENT
DTSTART;TZID=Europe/Rome:20210624T080000
DTEND;TZID=Europe/Rome:20210624T170000
DTSTAMP:20260421T025157
CREATED:20210624T202950Z
LAST-MODIFIED:20210624T202950Z
UID:3275-1624521600-1624554000@viatrivero.staging.19.coop
SUMMARY:"Impa\, la città" di Diego Scarponi 2  luglio beeozanam Torino
DESCRIPTION:Alle 21:30 l’esclusiva proiezione del film \, “Impa\, la città” di Diego Scarponi un suggestivo sguardo verso la più antica fabbrica recuperata di Buenos Aires\, rinata grazie alla forza dei lavoratori che hanno lottato per impedirne il fallimento e la chiusura. Diego Scarponi rimarrà con noi per testimoniare la concretizzazione del “grande sogno collettivo”. \nGratuito con prenotazione obbligatoria. \n#beepopfest21 Manifattura documentari /// gargagnànfilm\, IMPA la ciudad
URL:https://viatrivero.staging.19.coop/evento/impa-la-citta-di-diego-scarponi-2-luglio-beeozanam-torino/
LOCATION:to
CATEGORIES:News
ATTACH;FMTTYPE=image/jpeg:https://viatrivero.staging.19.coop/wp-content/uploads/2021/06/205576796_3612455552187435_247130162222983855_n.jpg
END:VEVENT
END:VCALENDAR