BEGIN:VCALENDAR
VERSION:2.0
PRODID:-//Via Trivero - Volere La Luna - ECPv6.15.17.1//NONSGML v1.0//EN
CALSCALE:GREGORIAN
METHOD:PUBLISH
X-ORIGINAL-URL:https://viatrivero.staging.19.coop
X-WR-CALDESC:Eventi per Via Trivero - Volere La Luna
REFRESH-INTERVAL;VALUE=DURATION:PT1H
X-Robots-Tag:noindex
X-PUBLISHED-TTL:PT1H
BEGIN:VTIMEZONE
TZID:Europe/Rome
BEGIN:DAYLIGHT
TZOFFSETFROM:+0100
TZOFFSETTO:+0200
TZNAME:CEST
DTSTART:20200329T010000
END:DAYLIGHT
BEGIN:STANDARD
TZOFFSETFROM:+0200
TZOFFSETTO:+0100
TZNAME:CET
DTSTART:20201025T010000
END:STANDARD
BEGIN:DAYLIGHT
TZOFFSETFROM:+0100
TZOFFSETTO:+0200
TZNAME:CEST
DTSTART:20210328T010000
END:DAYLIGHT
BEGIN:STANDARD
TZOFFSETFROM:+0200
TZOFFSETTO:+0100
TZNAME:CET
DTSTART:20211031T010000
END:STANDARD
BEGIN:DAYLIGHT
TZOFFSETFROM:+0100
TZOFFSETTO:+0200
TZNAME:CEST
DTSTART:20220327T010000
END:DAYLIGHT
BEGIN:STANDARD
TZOFFSETFROM:+0200
TZOFFSETTO:+0100
TZNAME:CET
DTSTART:20221030T010000
END:STANDARD
END:VTIMEZONE
BEGIN:VEVENT
DTSTART;TZID=Europe/Rome:20210622T203000
DTEND;TZID=Europe/Rome:20210622T233000
DTSTAMP:20260421T043527
CREATED:20210609T115305Z
LAST-MODIFIED:20210614T174304Z
UID:3115-1624393800-1624404600@viatrivero.staging.19.coop
SUMMARY:Marco Tullio Giordana
DESCRIPTION:Immaginare la realtà. Conversazioni sul cinema \n\n\n Marco Tullio Giordana\,Andrea Bigalli \nIMMAGINARE LA REALTÀ \nIL CINEMA È AUTORITARIO: «TACI E ASCOLTA!» \nGiovedì 3 giugno\, per Edizioni Gruppo Abele\, esce in libreria Immaginare la realtà. Conversazioni sul cinema\, di Marco Tullio Giordana e Andrea Bigalli. Un libro-intervista sul cinema italiano nel ‘900 e il suo rapporto con una società in continua evoluzione. \n  \nLa vocazione del cinema \n«La vocazione mi raggiunse un pomeriggio d’agosto del 1967. Ero andato a vedere Blow-Up di Michelangelo \nAntonioni infilandomi nel cinema Corso di Milano al primo spettacolo. Ne uscii a mezzanotte\,cacciato via dalle maschere\, dopo averlo visto quattro volte di seguito». Marco Tullio Giordana racconta così il suo primissimo approccio al cinema. Un rapporto che successivamente lo salvò da un periodo molto triste della sua vita\, quando assistette miracolisticamente alle riprese della prima scena di Ultimo tango a Parigi di Bertolucci. Per Giordana «è difficile separare il cinema dalle persone che lo incarnano»\, e in Immaginare la realtà racconta con dovizia di particolari tanto la nascita di alcuni dei suoi più grandi successi – La meglio gioventù\, I cento passi\, Romanzo di una strage\, per citarne alcuni – quanto il loro rapporto con la società\, il contesto culturale e anche politico in cui essi presero vita. \n  \nImmergersi nell’immaginazione \n«In ogni film c’è in filigrana\, la società\, il Paese\, la grande Storia maiuscola – si trova a raccontare il regista rispondendo al critico cinematografico Andrea Bigalli – ma c’è sempre\, ed è quello che a me importa di più\, la storia minuscola\, quella dei personaggi che agiscono o\, soprattutto\, ne sono agiti». Proprio nel solco di questo rapporto biunivoco nascono gran parte dei suoi film\, a volte definiti politici\, anche se «Quando definiscono i miei film  “politici” non esulto\, anzi. Non lo sono per niente\, meno che mai nel senso militante o predicatorio del termine». Perché Giordana racconta le storie dei vinti\, dei dimenticati\, dei piccoli\, «gli ultimi della fila\, quelli che in foto vengono sempre sfuocati». \nNon manca\, in questa lunga intervista\, il suo rapporto con la televisione\, con la cultura italiana\, anche con la politica. E un intero capitolo dedicato a mafia e antimafia\, con una trattazione estesa di I cento passi ma anche di altri progetti\, come Lea e Due soldati. \nUn dialogo di ampio respiro sul Marco Tullio Giordana regista e sceneggiatore\, una lettura ispiratrice per tutte le persone appassionate che nutrono speranza in un futuro dove il cinema possa ancora contribuire a leggere e comprendere la realtà. Una vera finestra sul mondo dell’immaginazione cinematografica\, non a caso impreziosita da foto di scena tratte da molti dei suoi film: un altro modo per immergere totalmente il lettore e spingerlo a immaginare la realtà. \n  \nGli autori \nMarco Tullio Giordana\, regista e scrittore\, attraverso i suoi film ha raccontato importanti pagine di cronaca dell’Italia contemporanea. Tra le sue opere più acclamate: Maledetti vi amerò (1980)\, Pasolini\, un delitto italiano (1995)\, I cento passi (2000)\, La meglio gioventù (2003)\, Romanzo di una strage (2012). \nAndrea Bigalli\, prete e parroco fiorentino\, è docente all’Istituto Superiore di Scienze Religiose della Toscana e socio dell’Associazione Teologica Italiana. Giornalista pubblicista\, è critico cinematografico iscritto al Sindacato Nazionale Critici Cinematografici Italiani. È referente regionale di Libera.
URL:https://viatrivero.staging.19.coop/evento/marco-tullio-giordana/
LOCATION:to
CATEGORIES:News
ATTACH;FMTTYPE=image/jpeg:https://viatrivero.staging.19.coop/wp-content/uploads/2021/06/immaginare_la_realta.jpeg
END:VEVENT
END:VCALENDAR