BEGIN:VCALENDAR
VERSION:2.0
PRODID:-//Via Trivero - Volere La Luna - ECPv6.15.17.1//NONSGML v1.0//EN
CALSCALE:GREGORIAN
METHOD:PUBLISH
X-WR-CALNAME:Via Trivero - Volere La Luna
X-ORIGINAL-URL:https://viatrivero.staging.19.coop
X-WR-CALDESC:Eventi per Via Trivero - Volere La Luna
REFRESH-INTERVAL;VALUE=DURATION:PT1H
X-Robots-Tag:noindex
X-PUBLISHED-TTL:PT1H
BEGIN:VTIMEZONE
TZID:Europe/Rome
BEGIN:DAYLIGHT
TZOFFSETFROM:+0100
TZOFFSETTO:+0200
TZNAME:CEST
DTSTART:20200329T010000
END:DAYLIGHT
BEGIN:STANDARD
TZOFFSETFROM:+0200
TZOFFSETTO:+0100
TZNAME:CET
DTSTART:20201025T010000
END:STANDARD
BEGIN:DAYLIGHT
TZOFFSETFROM:+0100
TZOFFSETTO:+0200
TZNAME:CEST
DTSTART:20210328T010000
END:DAYLIGHT
BEGIN:STANDARD
TZOFFSETFROM:+0200
TZOFFSETTO:+0100
TZNAME:CET
DTSTART:20211031T010000
END:STANDARD
BEGIN:DAYLIGHT
TZOFFSETFROM:+0100
TZOFFSETTO:+0200
TZNAME:CEST
DTSTART:20220327T010000
END:DAYLIGHT
BEGIN:STANDARD
TZOFFSETFROM:+0200
TZOFFSETTO:+0100
TZNAME:CET
DTSTART:20221030T010000
END:STANDARD
END:VTIMEZONE
BEGIN:VEVENT
DTSTART;TZID=Europe/Rome:20210604T210000
DTEND;TZID=Europe/Rome:20210604T223000
DTSTAMP:20260421T043355
CREATED:20210603T155326Z
LAST-MODIFIED:20210603T155326Z
UID:3031-1622840400-1622845800@viatrivero.staging.19.coop
SUMMARY:Moni Ovadia. Un ebreo contro - Intervengono Cesare Bermani\, Moni Ovadia\, Livio Pepino
DESCRIPTION:Le attività di Volere la Luna riprendono finalmente in presenza\, seppur con le limitazioni imposte dalla normativa anti Covid. Venerdì 4 giugno alle 21.00 in via Trivero 16 a Torino sarà con noi Moni Ovadia per parlare di ebraismo\, musica\, teatro\, politica\, Palestina in occasione dell’uscita del libro “Moni Ovadia. Un ebreo contro. Intervista a cura di Livio Pepino” (Edizioni Gruppo Abele\, 2021). Interverranno Cesare Bermani e Livio Pepino.
URL:https://viatrivero.staging.19.coop/evento/moni-ovadia-un-ebreo-contro-intervengono-cesare-bermani-moni-ovadia-livio-pepino/
LOCATION:to
CATEGORIES:News
END:VEVENT
END:VCALENDAR