BEGIN:VCALENDAR
VERSION:2.0
PRODID:-//Via Trivero - Volere La Luna - ECPv6.15.17.1//NONSGML v1.0//EN
CALSCALE:GREGORIAN
METHOD:PUBLISH
X-ORIGINAL-URL:https://viatrivero.staging.19.coop
X-WR-CALDESC:Eventi per Via Trivero - Volere La Luna
REFRESH-INTERVAL;VALUE=DURATION:PT1H
X-Robots-Tag:noindex
X-PUBLISHED-TTL:PT1H
BEGIN:VTIMEZONE
TZID:Europe/Rome
BEGIN:DAYLIGHT
TZOFFSETFROM:+0100
TZOFFSETTO:+0200
TZNAME:CEST
DTSTART:20210328T010000
END:DAYLIGHT
BEGIN:STANDARD
TZOFFSETFROM:+0200
TZOFFSETTO:+0100
TZNAME:CET
DTSTART:20211031T010000
END:STANDARD
BEGIN:DAYLIGHT
TZOFFSETFROM:+0100
TZOFFSETTO:+0200
TZNAME:CEST
DTSTART:20220327T010000
END:DAYLIGHT
BEGIN:STANDARD
TZOFFSETFROM:+0200
TZOFFSETTO:+0100
TZNAME:CET
DTSTART:20221030T010000
END:STANDARD
BEGIN:DAYLIGHT
TZOFFSETFROM:+0100
TZOFFSETTO:+0200
TZNAME:CEST
DTSTART:20230326T010000
END:DAYLIGHT
BEGIN:STANDARD
TZOFFSETFROM:+0200
TZOFFSETTO:+0100
TZNAME:CET
DTSTART:20231029T010000
END:STANDARD
END:VTIMEZONE
BEGIN:VEVENT
DTSTART;TZID=Europe/Rome:20220323T180000
DTEND;TZID=Europe/Rome:20220323T180000
DTSTAMP:20260420T094836
CREATED:20220227T173615Z
LAST-MODIFIED:20220227T173615Z
UID:5203-1648058400-1648058400@viatrivero.staging.19.coop
SUMMARY: Cinema Massimo (Via Verdi 18\, Torino): alle ore 18 introdurrà la proiezione di Mamma Roma (1962\, 105)\, mentre alle ore 20\,45 presenterà in anteprima regionale il suo documentario Notarangelo ladro di anime (2019\, 84’)
DESCRIPTION:Mercoledì 23 marzo lo sceneggiatore e regista David Grieco\, amico e collaboratore di Pasolini\, sarà ospite di una doppia proiezione al Cinema Massimo (Via Verdi 18\, Torino): alle ore 18 introdurrà la proiezione di Mamma Roma (1962\, 105)\, mentre alle ore 20\,45 presenterà in anteprima regionale il suo documentario Notarangelo ladro di anime (2019\, 84’) alla presenza di Steve Della Casa\, Direttore del TFF. Scomparso il 4 dicembre del 2016\, Domenico Notarangelo era un talento del calibro di Henri Cartier-Bresson e di Sebastião Salgado. Ma a differenza di questi due giganti della fotografia del secolo scorso\, Notarangelo non ha viaggiato per il mondo. Tutto il suo lavoro si è concentrato dove era nato e dove viveva\, in Puglia e in Basilicata. Giornalista e dirigente politico\, in questa veste\, ha incontrato e aiutato Pier Paolo Pasolini a realizzare a Matera Il Vangelo secondo Matteo\, ha contribuito a far eleggere ad Aliano la prima donna sindaco del Meridione\, Maria Ippolita Santomassimo\, ed è stato un amico filiale di Carlo Levi\, che ha fatto tumulare come desiderava in Basilicata\, dove il grande pittore e scrittore aveva trascorso da antifascista gli anni del confino. Notarangelo ha scattato nell’arco della sua vita centomila fotografie e girato centinaia di ore in Super8. Il doppio appuntamento è curato dall’Associazione Museo Nazionale del Cinema che nel 2017 ha conferito il Premio Prolo a David Grieco autore del libro e del film La macchinazione dedicati entrambi a Pasolini. Ingresso 3\,00\, 4\,00 e 6\,00 €.
URL:https://viatrivero.staging.19.coop/evento/cinema-massimo-via-verdi-18-torino-alle-ore-18-introdurra-la-proiezione-di-mamma-roma-1962-105-mentre-alle-ore-2045-presentera-in-anteprima-regionale/
LOCATION:to
CATEGORIES:News
END:VEVENT
BEGIN:VEVENT
DTSTART;TZID=Europe/Rome:20220324T180000
DTEND;TZID=Europe/Rome:20220324T180000
DTSTAMP:20260420T094836
CREATED:20220227T173705Z
LAST-MODIFIED:20220227T173705Z
UID:5206-1648144800-1648144800@viatrivero.staging.19.coop
SUMMARY:resso l’Unione culturale (Via Cesare Battisti 4/b\, Torino) è in programma la lettura corale del testo Affabulazione condotta da Silvia Mercuriati
DESCRIPTION:Giovedì 24 marzo ore 18 presso l’Unione culturale (Via Cesare Battisti 4/b\, Torino) è in programma la lettura corale del testo Affabulazione condotta da Silvia Mercuriati. L’opera venne composta in prima stesura nel 1966 in un momento della vita di Pasolini caratterizzato da immobilità forzata. Pasolini scelse di lavorare sul mito\, un percorso di autocoscienza in una prospettiva culturale\, civile e politica che lo portò a dichiarare: “…nessuno potrà mai avere comprensione per la mia convalescenza e la conseguente ricaduta che è il periodo in cui ho scritto queste tragedie; rinascevo\, come si dice\, e regredivo…”. Ingresso libero.
URL:https://viatrivero.staging.19.coop/evento/resso-lunione-culturale-via-cesare-battisti-4-b-torino-e-in-programma-la-lettura-corale-del-testo-affabulazione-condotta-da-silvia-mercuriati/
LOCATION:to
CATEGORIES:News
END:VEVENT
BEGIN:VEVENT
DTSTART;TZID=Europe/Rome:20220324T180000
DTEND;TZID=Europe/Rome:20220324T180000
DTSTAMP:20260420T094836
CREATED:20220314T064246Z
LAST-MODIFIED:20220314T064246Z
UID:5359-1648144800-1648144800@viatrivero.staging.19.coop
SUMMARY:Quale clima\, quale transizione ecologica al tempo della guerra?
DESCRIPTION:24\, ore 18.00: Quale clima\, quale transizione ecologica al tempo della guerra?\, con Angelo Tartagia e esponenti di FFF e movimenti ambientalisti
URL:https://viatrivero.staging.19.coop/evento/quale-clima-quale-transizione-ecologica-al-tempo-della-guerra/
LOCATION:to
CATEGORIES:News
END:VEVENT
BEGIN:VEVENT
DTSTART;TZID=Europe/Rome:20220324T210000
DTEND;TZID=Europe/Rome:20220324T210000
DTSTAMP:20260420T094836
CREATED:20220227T173754Z
LAST-MODIFIED:20220227T173754Z
UID:5209-1648155600-1648155600@viatrivero.staging.19.coop
SUMMARY:presso Casa Fools (Via Eugenio Bava 39\, Torino) è in programma la proiezione de La rabbia di Davide Ferrario (2000\, 52’)
DESCRIPTION:giovedì 24 marzo alle ore 21 presso Casa Fools (Via Eugenio Bava 39\, Torino) è in programma la proiezione de La rabbia di Davide Ferrario (2000\, 52’) alla presenza del regista che dichiara: “Un viaggio tra i quartieri popolari\, i set porno\, il carcere di San Vittore e la Bosnia osservati attraverso la filigrana del pensiero e dello scandalo pasoliniani”. Prima del film letture a cura di ArTeMuDa; l’appuntamento è realizzato in collaborazione con LiberAzioni festival. Ingresso con tessera ARCI.
URL:https://viatrivero.staging.19.coop/evento/presso-casa-fools-via-eugenio-bava-39-torino-e-in-programma-la-proiezione-de-la-rabbia-di-davide-ferrario-2000-52/
LOCATION:to
CATEGORIES:News
END:VEVENT
BEGIN:VEVENT
DTSTART;TZID=Europe/Rome:20220325T100000
DTEND;TZID=Europe/Rome:20220325T170000
DTSTAMP:20260420T094836
CREATED:20220314T064650Z
LAST-MODIFIED:20220314T064717Z
UID:5362-1648202400-1648227600@viatrivero.staging.19.coop
SUMMARY:25 Marzo 2022: Sciopero globale per il clima
DESCRIPTION: Ven\, Marzo 25\, 2022\n 10:00 – 13:00\n Torino\, XVIII Dicembre\n\n 
URL:https://viatrivero.staging.19.coop/evento/25-marzo-2022-sciopero-globale-per-il-clima/
LOCATION:to
CATEGORIES:News
END:VEVENT
BEGIN:VEVENT
DTSTART;TZID=Europe/Rome:20220328T210000
DTEND;TZID=Europe/Rome:20220328T210000
DTSTAMP:20260420T094836
CREATED:20220227T173912Z
LAST-MODIFIED:20220227T173912Z
UID:5213-1648501200-1648501200@viatrivero.staging.19.coop
SUMMARY:presso la SOMS di Racconigi (Via Carlo Costa 23\, Racconigi) proiezione de Il Vangelo secondo Matteo (1964\, 137’).
DESCRIPTION:Lunedì 28 marzo ore 21 presso la SOMS di Racconigi (Via Carlo Costa 23\, Racconigi) proiezione de Il Vangelo secondo Matteo (1964\, 137’). I responsabili del Progetto Cantoregi dichiarano: “Abbiamo scelto il Vangelo di Pasolini in quanto pellicola capace di mettere in luce l’umanità\, più che la divinità di Gesù\, concentrandosi sui valori fondamentali di una società\, spesso dimenticati\, quali il bene\, l’amore\, la solidarietà e rispetto delle diversità\, temi da sempre cari alla nostra associazione”. Ingresso 5\,00 € per gli adulti\, 3\,00 € i bambini.
URL:https://viatrivero.staging.19.coop/evento/presso-la-soms-di-racconigi-via-carlo-costa-23-racconigi-proiezione-de-il-vangelo-secondo-matteo-1964-137/
LOCATION:to
CATEGORIES:News
END:VEVENT
BEGIN:VEVENT
DTSTART;TZID=Europe/Rome:20220330T210000
DTEND;TZID=Europe/Rome:20220330T210000
DTSTAMP:20260420T094836
CREATED:20220227T174044Z
LAST-MODIFIED:20220227T174044Z
UID:5216-1648674000-1648674000@viatrivero.staging.19.coop
SUMMARY: Cinema Teatro Il Mulino (Via Riva Po 9\, Piossasco)\, Mulino ad Arte letture dal testo del 1966 Calderón
DESCRIPTION:mercoledì 30 marzo alle ore 21 presso il Cinema Teatro Il Mulino (Via Riva Po 9\, Piossasco)\, Mulino ad Arte renderà omaggio a Pasolini attraverso letture dal testo del 1966 Calderón a cura dei giovani allievi della Mulino Academy diretti da Daniele Ronco che dichiara: “Per il centenario vogliamo portare il nostro personale ricordo\, attraverso l’artigianato teatrale\, con i giovani che per Pier Paolo Pasolini sono sempre stati al centro delle sue attenzioni artistiche”. A seguire proiezioni di Volevo nascondermi di Giorgio Diritti (2020\, 120’); ingresso ridotto 5\,00 €\, intero 7\,00 €.
URL:https://viatrivero.staging.19.coop/evento/cinema-teatro-il-mulino-via-riva-po-9-piossasco-mulino-ad-arte-letture-dal-testo-del-1966-calderon/
LOCATION:to
CATEGORIES:News
END:VEVENT
BEGIN:VEVENT
DTSTART;TZID=Europe/Rome:20220404T180000
DTEND;TZID=Europe/Rome:20220404T180000
DTSTAMP:20260420T094836
CREATED:20220322T130903Z
LAST-MODIFIED:20220404T145656Z
UID:5427-1649095200-1649095200@viatrivero.staging.19.coop
SUMMARY:Ucraina. Ci sono alternative all’escalation della guerra?
DESCRIPTION:lunedì 4\, ore 18.00: Ucraina. Ci sono alternative all’escalation della guerra?\, organizzato con Centro Sereno Regis\, sede Sereno Regis – via Garibaldi 13
URL:https://viatrivero.staging.19.coop/evento/ucraina-ci-sono-alternative-allescalation-della-guerra/
LOCATION:to
CATEGORIES:News
END:VEVENT
BEGIN:VEVENT
DTSTART;TZID=Europe/Rome:20220406T163000
DTEND;TZID=Europe/Rome:20220406T170000
DTSTAMP:20260420T094836
CREATED:20220314T064805Z
LAST-MODIFIED:20220404T145911Z
UID:5365-1649262600-1649264400@viatrivero.staging.19.coop
SUMMARY:Magistratura democratica e organizzazioni studentesche IN VIA TRIVERO 16  6 APRILE ORE 16\,30
DESCRIPTION:6\, ore 16.30: Magistratura democratica e organizzazioni studentesche: LE RAGIONI DEGLI STUDENTI. OLTRE PAATERNALISMO E REPRESSIONE
URL:https://viatrivero.staging.19.coop/evento/magistratura-democratica-e-organizzazioni-studentesche-scuola-e-occupazioni/
LOCATION:to
CATEGORIES:News
END:VEVENT
BEGIN:VEVENT
DTSTART;TZID=Europe/Rome:20220407T180000
DTEND;TZID=Europe/Rome:20220407T180000
DTSTAMP:20260420T094836
CREATED:20220322T131049Z
LAST-MODIFIED:20220322T131049Z
UID:5433-1649354400-1649354400@viatrivero.staging.19.coop
SUMMARY:Se il carcere è un’isola\, presentazione del libro Isole carcere di Valerio Calzolaio
DESCRIPTION:– giovedì 7\, ore 18: Se il carcere è un’isola\, presentazione del libro Isole carcere di Valerio Calzolaio. Con l’autore Claudio Sarzotti
URL:https://viatrivero.staging.19.coop/evento/se-il-carcere-e-unisola-presentazione-del-libro-isole-carcere-di-valerio-calzolaio/
LOCATION:to
CATEGORIES:News
END:VEVENT
BEGIN:VEVENT
DTSTART;TZID=Europe/Rome:20220408T210000
DTEND;TZID=Europe/Rome:20220408T210000
DTSTAMP:20260420T094836
CREATED:20220314T064859Z
LAST-MODIFIED:20220404T192838Z
UID:5368-1649451600-1649451600@viatrivero.staging.19.coop
SUMMARY:letture e musiche sulla Shoah a cura di Paolo Cerrato NON C'E' RITORNO A CASA
DESCRIPTION:8\, ore 21.00: letture e musiche sulla Shoah a cura di Paolo Cerrato (presso PIU’ SPAZIO QUATTRO – via Saccarelli 18) \n 
URL:https://viatrivero.staging.19.coop/evento/letture-e-musiche-sulla-shoah-a-cura-di-paolo-cerrato-2/
LOCATION:to
CATEGORIES:News
END:VEVENT
BEGIN:VEVENT
DTSTART;TZID=Europe/Rome:20220409T080000
DTEND;TZID=Europe/Rome:20220409T170000
DTSTAMP:20260420T094836
CREATED:20220322T131323Z
LAST-MODIFIED:20220404T145627Z
UID:5439-1649491200-1649523600@viatrivero.staging.19.coop
SUMMARY:mostra Liliana Lanzardo
DESCRIPTION:Comunicato Stampa LILIANA \n– sabato 9\, ore 16.00: apertura mostra Liliana Lanzardo (sino a 19 giugno) \nLocandina mia Fiabe di Liliana 2022 def senza
URL:https://viatrivero.staging.19.coop/evento/mostra-liliana-lanzardo-2/
LOCATION:to
CATEGORIES:News
END:VEVENT
BEGIN:VEVENT
DTSTART;TZID=Europe/Rome:20220416T090000
DTEND;TZID=Europe/Rome:20220618T190000
DTSTAMP:20260420T094836
CREATED:20220314T065025Z
LAST-MODIFIED:20220314T065025Z
UID:5371-1650099600-1655578800@viatrivero.staging.19.coop
SUMMARY:mostra Liliana Lanzardo
DESCRIPTION:9\, ore 16.00: apertura mostra Liliana Lanzardo (sino a 19 giugno)
URL:https://viatrivero.staging.19.coop/evento/mostra-liliana-lanzardo/
LOCATION:to
CATEGORIES:News
END:VEVENT
BEGIN:VEVENT
DTSTART;TZID=Europe/Rome:20220421T180000
DTEND;TZID=Europe/Rome:20220421T180000
DTSTAMP:20260420T094836
CREATED:20220314T065145Z
LAST-MODIFIED:20220409T074915Z
UID:5374-1650564000-1650564000@viatrivero.staging.19.coop
SUMMARY:45 anni di I° maggio a Torino presentazione libro
DESCRIPTION:21\, ore 18.00: presentazione libro su 45 anni di I° maggio a Torino
URL:https://viatrivero.staging.19.coop/evento/5-anni-di-i-maggio-a-torino-presentazione-libro/
LOCATION:to
CATEGORIES:News
END:VEVENT
BEGIN:VEVENT
DTSTART;TZID=Europe/Rome:20220424T150000
DTEND;TZID=Europe/Rome:20220424T170000
DTSTAMP:20260420T094836
CREATED:20220404T151407Z
LAST-MODIFIED:20220404T151433Z
UID:5523-1650812400-1650819600@viatrivero.staging.19.coop
SUMMARY:APRILE domenica 24 pomeriggio Avigliana Campeggio della Liberazione Workshop/incontro Confini\, guerre\, resistenze\, migrazioni con Spostiamo mari e monti
DESCRIPTION:APRILE domenica 24 pomeriggio Avigliana Campeggio della Liberazione\nWorkshop/incontro Confini\, guerre\, resistenze\, migrazioni con Spostiamo mari e monti
URL:https://viatrivero.staging.19.coop/evento/aprile-domenica-24-pomeriggio-avigliana-campeggio-della-liberazione-workshop-incontro-confini-guerre-resistenze-migrazioni-con-spostiamo-mari-e-monti/
LOCATION:to
CATEGORIES:News
END:VEVENT
BEGIN:VEVENT
DTSTART;TZID=Europe/Rome:20220424T203000
DTEND;TZID=Europe/Rome:20220424T203000
DTSTAMP:20260420T094836
CREATED:20220404T151649Z
LAST-MODIFIED:20220404T151715Z
UID:5531-1650832200-1650832200@viatrivero.staging.19.coop
SUMMARY:APRILE domenica 24 ore 20.30 Partecipazione alla fiaccolata del 25 aprile
DESCRIPTION:APRILE domenica 24 ore 20.30 Partecipazione alla fiaccolata del 25 aprile
URL:https://viatrivero.staging.19.coop/evento/aprile-domenica-24-ore-20-30-partecipazione-alla-fiaccolata-del-25-aprile/
LOCATION:to
CATEGORIES:News
END:VEVENT
BEGIN:VEVENT
DTSTART;TZID=Europe/Rome:20220430T100000
DTEND;TZID=Europe/Rome:20220430T170000
DTSTAMP:20260420T094836
CREATED:20220314T065912Z
LAST-MODIFIED:20220314T065912Z
UID:5400-1651312800-1651338000@viatrivero.staging.19.coop
SUMMARY:ASSEMBLEA  ANNUALE  ASSOCIAZIONE
DESCRIPTION:
URL:https://viatrivero.staging.19.coop/evento/assemblea-annuale-associazione/
LOCATION:to
CATEGORIES:News
END:VEVENT
BEGIN:VEVENT
DTSTART;TZID=Europe/Rome:20220501T093000
DTEND;TZID=Europe/Rome:20220501T170000
DTSTAMP:20260420T094836
CREATED:20220314T065338Z
LAST-MODIFIED:20220314T065338Z
UID:5378-1651397400-1651424400@viatrivero.staging.19.coop
SUMMARY:partecipazione al corteo e pranzo sociale
DESCRIPTION:  \n– 1: partecipazione al corteo e pranzo sociale
URL:https://viatrivero.staging.19.coop/evento/partecipazione-al-corteo-e-pranzo-sociale/
LOCATION:to
CATEGORIES:News
END:VEVENT
BEGIN:VEVENT
DTSTART;TZID=Europe/Rome:20220513T180000
DTEND;TZID=Europe/Rome:20220513T180000
DTSTAMP:20260420T094836
CREATED:20220314T065427Z
LAST-MODIFIED:20220505T053222Z
UID:5381-1652464800-1652464800@viatrivero.staging.19.coop
SUMMARY:A che punto è il PNRR? LA SCUOLA DI OGGI E  DI DOMANI\, con Scuola buona politica (Sereno Regis)
DESCRIPTION:A che punto è il PNRR? LA SCUOLA DI OGGI E  DI DOMANI\, con Scuola buona politica (Sereno Regis) \ncon \nGioele Tarsia e Francesco Romeo\, rappresentanti degli studenti del liceo A. Moro di Rivarolo Canavese. \nDomenico Chiesa\,  CIDI. \nDaniele Gorgone\, professore di storia e filosofia.
URL:https://viatrivero.staging.19.coop/evento/a-che-punto-e-il-pnrr-la-transizione-ecologica-con-scuola-buona-politica-sereno-regis/
LOCATION:to
CATEGORIES:News
END:VEVENT
BEGIN:VEVENT
DTSTART;TZID=Europe/Rome:20220514T153000
DTEND;TZID=Europe/Rome:20220514T170000
DTSTAMP:20260420T094836
CREATED:20220507T112550Z
LAST-MODIFIED:20220507T112550Z
UID:5870-1652542200-1652547600@viatrivero.staging.19.coop
SUMMARY:iornata di MOBILITAZIONE NAZIONALE CONTRO il Disegno di Legge CONCORRENZA A Torino\, ci troviamo in piazza Carignano dalle ore 15.30 per ribadire tutti e tutte insieme che la concorrenza di Draghi fa male alla democrazia
DESCRIPTION:Forum italiano dei Movimenti per l’Acqua – Comitato Acqua Pubblica Torino\nhttps://www.acquabenecomunetorino.org – Cell. 388 8597492 – acquapubblicatorino@gmail.com\nSabato 14 Maggio 2022: Giornata di MOBILITAZIONE NAZIONALE\nCONTRO il Disegno di Legge CONCORRENZA\nA Torino\, ci troviamo in piazza Carignano dalle ore 15.30 per\nribadire tutti e tutte insieme che\nla concorrenza di Draghi fa male alla democrazia\nIl governo Draghi ha predisposto il disegno di legge sulla concorrenza e il\nmercato\, che è in fase di esame in Parlamento.\nSi tratta di un documento dove trionfa il “tutto è merce”: acqua\, energia\, rifiuti\,\ntrasporto pubblico locale\, sanità\, servizi sociali e culturali: tutto va gestito con le\nlogiche del mercato e del profitto.\nSi annulla così la volontà popolare espressa con i referendum del 2011\ncontro la privatizzazione dell’acqua e dei beni comuni.\nL’ obbligo di mettere a gara i servizi pubblici espropria i Comuni del loro ruolo\nfondamentale\, assicurato dalla Costituzione\, di garantire il soddisfacimento dei\nbisogni e la tutela dei diritti della cittadinanza.\nNella sempre più drammatica crisi climatica si ignora la necessità di tutelare\nle risorse ambientali nell’interesse collettivo e non di pochi centri di interesse\nfinanziario e speculativo.\nLa pandemia\, la guerra di nuovo dentro i confini dell’Europa\, il drastico\npeggioramento delle condizioni di vita delle persone\, esigono uno stop al modello\nsociale basato sui profitti.\nOccorre costruire un’altra società\, fondata sulle persone e sui loro diritti\, sulla\nriappropriazione sociale dell’acqua e dei beni comuni\, sulla gestione partecipativa di\ntutti i servizi pubblici.\nPer questo chiediamo lo stralcio dell’art. 6\, lo stop ai provvedimenti su sanità\,\nservizi sociali\, trasporti\, rifiuti\, energia contenuti nel DdL Concorrenza e l’apertura di\nun ampio dibattito pubblico sulla gestione dell’acqua\, dei beni comuni\, dei servizi\npubblici.\nCon Comitato Acqua Pubblica Torino e Acmos\, Anpi Grugliasco\, Arci Torino\,\nAttac Torino\, Comunet\, Manituana\, Pro Natura\, Salviamo il Paesaggio Torino…e\ntutt* coloro che hanno a cuore i beni comuni\n(adesioni in aggiornamento)\nTorino\, maggio 2022
URL:https://viatrivero.staging.19.coop/evento/iornata-di-mobilitazione-nazionale-contro-il-disegno-di-legge-concorrenza-a-torino-ci-troviamo-in-piazza-carignano-dalle-ore-15-30-per-ribadire-tutti-e-tutte-insieme-che-la-concorrenza-di-draghi-fa-m/
LOCATION:to
CATEGORIES:News
END:VEVENT
BEGIN:VEVENT
DTSTART;TZID=Europe/Rome:20220518T210000
DTEND;TZID=Europe/Rome:20220518T210000
DTSTAMP:20260420T094836
CREATED:20220314T065523Z
LAST-MODIFIED:20220404T151906Z
UID:5385-1652907600-1652907600@viatrivero.staging.19.coop
SUMMARY:concerto di Enrico Cresci
DESCRIPTION:MAGGIO mercoledì 18 ore 21.00 Spazio CAP10100\, Corso Moncalieri 18\nEnrico CRESCI in concerto Autogeografia
URL:https://viatrivero.staging.19.coop/evento/concerto-di-enrico-cresci/
LOCATION:to
CATEGORIES:News
END:VEVENT
BEGIN:VEVENT
DTSTART;TZID=Europe/Rome:20220519T180000
DTEND;TZID=Europe/Rome:20220519T180000
DTSTAMP:20260420T094836
CREATED:20220322T131513Z
LAST-MODIFIED:20220322T131513Z
UID:5445-1652983200-1652983200@viatrivero.staging.19.coop
SUMMARY:A che punto è il PNRR? Contrasto disuguaglianze\,
DESCRIPTION:giovedì 19\, ore 18.00: A che punto è il PNRR? Contrasto disuguaglianze\, con Scuola buona politica (sede Sereno Regis)
URL:https://viatrivero.staging.19.coop/evento/a-che-punto-e-il-pnrr-contrasto-disuguaglianze/
LOCATION:to
CATEGORIES:News
END:VEVENT
BEGIN:VEVENT
DTSTART;TZID=Europe/Rome:20220520T180000
DTEND;TZID=Europe/Rome:20220520T180000
DTSTAMP:20260420T094836
CREATED:20220322T131615Z
LAST-MODIFIED:20220322T131639Z
UID:5448-1653069600-1653069600@viatrivero.staging.19.coop
SUMMARY:venerdì 20\, ore 18.00\, presentazione del libro Diritto o barbarie di Gaetano Azzariti. Con l’autore Alessandra Algostino;
DESCRIPTION:venerdì 20\, ore 18.00\, presentazione del libro Diritto o barbarie di Gaetano Azzariti. Con l’autore Alessandra Algostino;
URL:https://viatrivero.staging.19.coop/evento/venerdi-20-ore-18-00-presentazione-del-libro-diritto-o-barbarie-di-gaetano-azzariti-con-lautore-alessandra-algostino/
LOCATION:to
CATEGORIES:News
END:VEVENT
BEGIN:VEVENT
DTSTART;TZID=Europe/Rome:20220520T210000
DTEND;TZID=Europe/Rome:20220520T210000
DTSTAMP:20260420T094836
CREATED:20220503T134738Z
LAST-MODIFIED:20220503T134738Z
UID:5813-1653080400-1653080400@viatrivero.staging.19.coop
SUMMARY:incontro con Gianluca Costantini
DESCRIPTION:Gianluca Costantini ha studiato all’Accademia di Belle Arti di Ravenna e ha iniziato la sua carriera di illustratore e fumettista nel 1993 sulle testate Schizzo[5] di Cremona e sul quotidiano Il Manifesto[6]. Dal 2000 inizia a sperimentare l’utilizzo del web nel linguaggio del fumetto con il progetto inguine.net da cui nascerà successivamente la rivista inguineMAH!gazine pubblicata da Coniglio Editore. Nel 2001 cura la mostra di Joe Sacco[7] in Italia e nel 2003 la mostra di Marjane Satrapi[8]. Nel 2005 cura con Elettra Stamboulis Komikazen Festival del fumetto di realtà che continuerà fino al 2016.[9] Dal 2010 Insegna Arte del fumetto al biennio specialistico in Linguaggi del fumetto dell’Accademia di Belle Arti di Bologna.[10] \nDal 2016 al 2020 accompagna le attività di DiEM25 Democracy in Europe Movement 2025\, il movimento guidato da Yanis Varoufakis e collabora attivamente con l’artista cinese Ai Weiwei.[11][12][13] \nDal 2009 al 2016 è il direttore artistico della casa editrice GIUDA Edizioni[14] con Elettra Stamboulis e Marco Lobietti\, e cura la rivista G.I.U.D.A. Geographical Institute of Unconventional Drawing Arts[15] nonché i libri pubblicati dalla casa editrice. \nCostantini esegue un lavoro giornalistico prima di realizzare le tavole a fumetti\, poiché il disegno è fatto\, nel suo caso\, per illustrare le notizie di cronaca. Lo stile rinuncia sovente alla rappresentazione iper-realistica delle situazioni (volti\, paesaggi)\, per cedere ad una semplificazione mirata a facilitare rapidità di lettura.[16] \nNel 2016 è stato accusato di terrorismo dal governo turco per i suoi disegni
URL:https://viatrivero.staging.19.coop/evento/incontro-con-gianluca-costantini/
LOCATION:to
CATEGORIES:News
END:VEVENT
BEGIN:VEVENT
DTSTART;TZID=Europe/Rome:20220526T180000
DTEND;TZID=Europe/Rome:20220526T180000
DTSTAMP:20260420T094836
CREATED:20220314T065725Z
LAST-MODIFIED:20220505T053421Z
UID:5394-1653588000-1653588000@viatrivero.staging.19.coop
SUMMARY:A che punto è il PNRR? LA TRANSIZIONE  ECOLOGICA\, con Scuola buona politica (Sereno Regis)
DESCRIPTION:26\, ore 18.00: A che punto è il PNRR? La transizione ecologica\, con Scuola buona politica (Sereno Regis)
URL:https://viatrivero.staging.19.coop/evento/a-che-punto-e-il-pnrr-la-scuola-oggi-e-domani-con-scuola-buona-politica-sereno-regis/
LOCATION:to
CATEGORIES:News
END:VEVENT
BEGIN:VEVENT
DTSTART;TZID=Europe/Rome:20220527T210000
DTEND;TZID=Europe/Rome:20220527T213000
DTSTAMP:20260420T094836
CREATED:20220322T131836Z
LAST-MODIFIED:20220404T152031Z
UID:5454-1653685200-1653687000@viatrivero.staging.19.coop
SUMMARY:Moni Ovadia\, Parole e musica tra ebrei e zingari (Spazio CAP10100\, Corso Moncalieri 18)
DESCRIPTION:MAGGIO venerdì 27 ore 21.00 Spazio CAP10100\, Corso Moncalieri 18\nMoni OVADIA\, in Parole e musica tra ebrei e zingari
URL:https://viatrivero.staging.19.coop/evento/moni-ovadia-parole-e-musica-tra-ebrei-e-zingari-auditorium-arci-corso-casale/
LOCATION:to
CATEGORIES:News
END:VEVENT
BEGIN:VEVENT
DTSTART;TZID=Europe/Rome:20220616T170000
DTEND;TZID=Europe/Rome:20220706T170000
DTSTAMP:20260420T094836
CREATED:20220611T190049Z
LAST-MODIFIED:20220630T092316Z
UID:5972-1655398800-1657126800@viatrivero.staging.19.coop
SUMMARY:A volte non serve dialogare.... di Santo LEONARDO via Trivero 16 inaugurazione giovedì 16 giugno 2022 ore 17.00 periodo mostra dal 16 giugno al 3 luglio 2022
DESCRIPTION:
URL:https://viatrivero.staging.19.coop/evento/a-volte-non-serve-dialogare-di-santo-leonardo-via-trivero-16-inaugurazione-giovedi-16-giugno-2022-ore-17-00-periodo-mostra-dal-16-giugno-al-3-luglio-2022/
LOCATION:to
CATEGORIES:News
END:VEVENT
BEGIN:VEVENT
DTSTART;TZID=Europe/Rome:20220628T190000
DTEND;TZID=Europe/Rome:20220628T190000
DTSTAMP:20260420T094836
CREATED:20220628T103320Z
LAST-MODIFIED:20220628T103320Z
UID:6094-1656442800-1656442800@viatrivero.staging.19.coop
SUMMARY:comunet officine corsare Parola al quartiere Barriera di Milano
DESCRIPTION:OGGI ALLE ORE 19:00\n\n\nParola al quartiere Barriera di Milano\nUn momento di convivialità\, conoscenza reciproca e condivisione con il quartiere per presentare tutte le attività svolte dalla nostra associazione a supporto di Barriera di Milano\, le proposte di miglioramento che stiamo elaborando e portando avanti anche a livello istituzionale.\nMa soprattutto un momento per dare a tutti e tutte la possibilità di raccontare la loro quotidianità nel quartiere\, denunciare i problemi e avanzare proposte su cui lavorare assieme.\nPer agevolare la partecipazione dei genitori con figli piccoli\, sono previste attività ludico-ricreative per i bambini durante l’iniziativa
URL:https://viatrivero.staging.19.coop/evento/comunet-officine-corsare-parola-al-quartiere-barriera-di-milano/
LOCATION:to
CATEGORIES:News
END:VEVENT
BEGIN:VEVENT
DTSTART;TZID=Europe/Rome:20220629T173000
DTEND;TZID=Europe/Rome:20220629T173000
DTSTAMP:20260420T094836
CREATED:20220621T131859Z
LAST-MODIFIED:20220621T131859Z
UID:6061-1656523800-1656523800@viatrivero.staging.19.coop
SUMMARY:CONTRATTAZIONE\, SCIOPERI E DINTORNI\, 29 giugno alle 17\,30 presso il Polo del '900.
DESCRIPTION:CONTRATTAZIONE\, SCIOPERI E DINTORNI\, 29 giugno alle 17\,30 presso il Polo del ‘900.
URL:https://viatrivero.staging.19.coop/evento/contrattazione-scioperi-e-dintorni-29-giugno-alle-1730-presso-il-polo-del-900/
LOCATION:to
CATEGORIES:News
END:VEVENT
BEGIN:VEVENT
DTSTART;TZID=Europe/Rome:20220703T150000
DTEND;TZID=Europe/Rome:20220703T170000
DTSTAMP:20260420T094836
CREATED:20220703T171449Z
LAST-MODIFIED:20220703T171718Z
UID:6116-1656860400-1656867600@viatrivero.staging.19.coop
SUMMARY:Governare Torino: tra nuove povertà e trasformazione urbana
DESCRIPTION:
URL:https://viatrivero.staging.19.coop/evento/governare-torino-tra-nuove-poverta-e-trasformazione-urbana/
LOCATION:to
CATEGORIES:News
END:VEVENT
END:VCALENDAR