BEGIN:VCALENDAR
VERSION:2.0
PRODID:-//Via Trivero - Volere La Luna - ECPv6.15.17.1//NONSGML v1.0//EN
CALSCALE:GREGORIAN
METHOD:PUBLISH
X-ORIGINAL-URL:https://viatrivero.staging.19.coop
X-WR-CALDESC:Eventi per Via Trivero - Volere La Luna
REFRESH-INTERVAL;VALUE=DURATION:PT1H
X-Robots-Tag:noindex
X-PUBLISHED-TTL:PT1H
BEGIN:VTIMEZONE
TZID:Europe/Rome
BEGIN:DAYLIGHT
TZOFFSETFROM:+0100
TZOFFSETTO:+0200
TZNAME:CEST
DTSTART:20210328T010000
END:DAYLIGHT
BEGIN:STANDARD
TZOFFSETFROM:+0200
TZOFFSETTO:+0100
TZNAME:CET
DTSTART:20211031T010000
END:STANDARD
BEGIN:DAYLIGHT
TZOFFSETFROM:+0100
TZOFFSETTO:+0200
TZNAME:CEST
DTSTART:20220327T010000
END:DAYLIGHT
BEGIN:STANDARD
TZOFFSETFROM:+0200
TZOFFSETTO:+0100
TZNAME:CET
DTSTART:20221030T010000
END:STANDARD
BEGIN:DAYLIGHT
TZOFFSETFROM:+0100
TZOFFSETTO:+0200
TZNAME:CEST
DTSTART:20230326T010000
END:DAYLIGHT
BEGIN:STANDARD
TZOFFSETFROM:+0200
TZOFFSETTO:+0100
TZNAME:CET
DTSTART:20231029T010000
END:STANDARD
END:VTIMEZONE
BEGIN:VEVENT
DTSTART;TZID=Europe/Rome:20220616T170000
DTEND;TZID=Europe/Rome:20220706T170000
DTSTAMP:20260419T200725
CREATED:20220611T190049Z
LAST-MODIFIED:20220630T092316Z
UID:5972-1655398800-1657126800@viatrivero.staging.19.coop
SUMMARY:A volte non serve dialogare.... di Santo LEONARDO via Trivero 16 inaugurazione giovedì 16 giugno 2022 ore 17.00 periodo mostra dal 16 giugno al 3 luglio 2022
DESCRIPTION:
URL:https://viatrivero.staging.19.coop/evento/a-volte-non-serve-dialogare-di-santo-leonardo-via-trivero-16-inaugurazione-giovedi-16-giugno-2022-ore-17-00-periodo-mostra-dal-16-giugno-al-3-luglio-2022/
LOCATION:to
CATEGORIES:News
END:VEVENT
BEGIN:VEVENT
DTSTART;TZID=Europe/Rome:20220703T150000
DTEND;TZID=Europe/Rome:20220703T170000
DTSTAMP:20260419T200725
CREATED:20220703T171449Z
LAST-MODIFIED:20220703T171718Z
UID:6116-1656860400-1656867600@viatrivero.staging.19.coop
SUMMARY:Governare Torino: tra nuove povertà e trasformazione urbana
DESCRIPTION:
URL:https://viatrivero.staging.19.coop/evento/governare-torino-tra-nuove-poverta-e-trasformazione-urbana/
LOCATION:to
CATEGORIES:News
END:VEVENT
BEGIN:VEVENT
DTSTART;TZID=Europe/Rome:20220711T160000
DTEND;TZID=Europe/Rome:20220711T180000
DTSTAMP:20260419T200725
CREATED:20220703T171303Z
LAST-MODIFIED:20220703T171303Z
UID:6113-1657555200-1657562400@viatrivero.staging.19.coop
SUMMARY:CASA E ABITARE NEL PNRR.  Analisi e prospettive
DESCRIPTION:11 luglio 2022 dalle h. 16.00 alle h. 18.00  \nCASA E ABITARE NEL PNRR.  \nAnalisi e prospettive \n  \nincontro online  \nlink per il collegamento \nhttps://us02web.zoom.us/j/82156547622?pwd=O4MbqrhK-Bo0kYtd841cAdgvTn3FwC.1  \n  \nintroduzione  \nGiustino Scotto d’Aniello \nresponsabile sportello casa “Volere la Luna” \nrelazione \nGianluigi Chiaro* \ncoautore dello studio promosso da Caritas italiana \n“CASA E ABITARE NEL PNRR. Analisi e prospettive” \n(https://volerelaluna.it/materiali/2022/04/06/casa-e-abitare-nel-pnrr/) \n  \n\n\n\n\n\n\n\n\n\n\n\n  \n  \n* Gianluigi Chiaro è consulente della Caritas nazionale. Negli ultimi anni ha sviluppato competenze legate all’analisi del fabbisogno abitativo delle famiglie italiane e alla valutazione delle politiche abitative pubbliche in relazione alle politiche di welfare. A partire dal 2019 è Senior Advisor Nomisma e co-fondatore di Area Proxima.
URL:https://viatrivero.staging.19.coop/evento/casa-e-abitare-nel-pnrr-analisi-e-prospettive/
LOCATION:to
CATEGORIES:News
END:VEVENT
END:VCALENDAR