BEGIN:VCALENDAR
VERSION:2.0
PRODID:-//Via Trivero - Volere La Luna - ECPv6.15.17.1//NONSGML v1.0//EN
CALSCALE:GREGORIAN
METHOD:PUBLISH
X-WR-CALNAME:Via Trivero - Volere La Luna
X-ORIGINAL-URL:https://viatrivero.staging.19.coop
X-WR-CALDESC:Eventi per Via Trivero - Volere La Luna
REFRESH-INTERVAL;VALUE=DURATION:PT1H
X-Robots-Tag:noindex
X-PUBLISHED-TTL:PT1H
BEGIN:VTIMEZONE
TZID:Europe/Rome
BEGIN:DAYLIGHT
TZOFFSETFROM:+0100
TZOFFSETTO:+0200
TZNAME:CEST
DTSTART:20200329T010000
END:DAYLIGHT
BEGIN:STANDARD
TZOFFSETFROM:+0200
TZOFFSETTO:+0100
TZNAME:CET
DTSTART:20201025T010000
END:STANDARD
BEGIN:DAYLIGHT
TZOFFSETFROM:+0100
TZOFFSETTO:+0200
TZNAME:CEST
DTSTART:20210328T010000
END:DAYLIGHT
BEGIN:STANDARD
TZOFFSETFROM:+0200
TZOFFSETTO:+0100
TZNAME:CET
DTSTART:20211031T010000
END:STANDARD
BEGIN:DAYLIGHT
TZOFFSETFROM:+0100
TZOFFSETTO:+0200
TZNAME:CEST
DTSTART:20220327T010000
END:DAYLIGHT
BEGIN:STANDARD
TZOFFSETFROM:+0200
TZOFFSETTO:+0100
TZNAME:CET
DTSTART:20221030T010000
END:STANDARD
END:VTIMEZONE
BEGIN:VEVENT
DTSTART;TZID=Europe/Rome:20210910T180000
DTEND;TZID=Europe/Rome:20210910T180000
DTSTAMP:20260420T170714
CREATED:20210909T190328Z
LAST-MODIFIED:20210909T190328Z
UID:3687-1631296800-1631296800@viatrivero.staging.19.coop
SUMMARY:notte bianca dei Bambini piazza Paravia
DESCRIPTION:
URL:https://viatrivero.staging.19.coop/evento/notte-bianca-dei-bambini-piazza-paravia/
LOCATION:to
CATEGORIES:News
END:VEVENT
BEGIN:VEVENT
DTSTART;TZID=Europe/Rome:20210917T173000
DTEND;TZID=Europe/Rome:20210917T230000
DTSTAMP:20260420T170714
CREATED:20210909T185847Z
LAST-MODIFIED:20210909T190451Z
UID:3675-1631899800-1631919600@viatrivero.staging.19.coop
SUMMARY:festa di Volerelaluna
DESCRIPTION:
URL:https://viatrivero.staging.19.coop/evento/festa-di-volerelaluna/
LOCATION:to
CATEGORIES:News
END:VEVENT
BEGIN:VEVENT
DTSTART;TZID=Europe/Rome:20210918T163000
DTEND;TZID=Europe/Rome:20210918T230000
DTSTAMP:20260420T170714
CREATED:20210909T190037Z
LAST-MODIFIED:20210909T190533Z
UID:3681-1631982600-1632006000@viatrivero.staging.19.coop
SUMMARY:festa di Volerelaluna
DESCRIPTION:
URL:https://viatrivero.staging.19.coop/evento/festa-di-volerelaluna-2/
LOCATION:to
CATEGORIES:News
END:VEVENT
BEGIN:VEVENT
DTSTART;TZID=Europe/Rome:20210919T100000
DTEND;TZID=Europe/Rome:20210919T170000
DTSTAMP:20260420T170714
CREATED:20210909T190207Z
LAST-MODIFIED:20210909T190207Z
UID:3684-1632045600-1632070800@viatrivero.staging.19.coop
SUMMARY:festa di Volerelaluna
DESCRIPTION:
URL:https://viatrivero.staging.19.coop/evento/festa-di-volerelaluna-3/
LOCATION:to
CATEGORIES:News
ATTACH;FMTTYPE=image/jpeg:https://viatrivero.staging.19.coop/wp-content/uploads/2021/09/Locandina-02_Layout-1-scaled.jpg
END:VEVENT
BEGIN:VEVENT
DTSTART;TZID=Europe/Rome:20210929T180000
DTEND;TZID=Europe/Rome:20210929T200000
DTSTAMP:20260420T170714
CREATED:20210927T142022Z
LAST-MODIFIED:20210927T142027Z
UID:3744-1632938400-1632945600@viatrivero.staging.19.coop
SUMMARY:Direttivo
DESCRIPTION:direttivo di mercoledì prossimo alle 18.00 in via Trivero in presenza
URL:https://viatrivero.staging.19.coop/evento/direttivo-4/
LOCATION:to
CATEGORIES:News
END:VEVENT
END:VCALENDAR