BEGIN:VCALENDAR
VERSION:2.0
PRODID:-//Via Trivero - Volere La Luna - ECPv6.15.17.1//NONSGML v1.0//EN
CALSCALE:GREGORIAN
METHOD:PUBLISH
X-WR-CALNAME:Via Trivero - Volere La Luna
X-ORIGINAL-URL:https://viatrivero.staging.19.coop
X-WR-CALDESC:Eventi per Via Trivero - Volere La Luna
REFRESH-INTERVAL;VALUE=DURATION:PT1H
X-Robots-Tag:noindex
X-PUBLISHED-TTL:PT1H
BEGIN:VTIMEZONE
TZID:Europe/Rome
BEGIN:DAYLIGHT
TZOFFSETFROM:+0100
TZOFFSETTO:+0200
TZNAME:CEST
DTSTART:20190331T010000
END:DAYLIGHT
BEGIN:STANDARD
TZOFFSETFROM:+0200
TZOFFSETTO:+0100
TZNAME:CET
DTSTART:20191027T010000
END:STANDARD
BEGIN:DAYLIGHT
TZOFFSETFROM:+0100
TZOFFSETTO:+0200
TZNAME:CEST
DTSTART:20200329T010000
END:DAYLIGHT
BEGIN:STANDARD
TZOFFSETFROM:+0200
TZOFFSETTO:+0100
TZNAME:CET
DTSTART:20201025T010000
END:STANDARD
BEGIN:DAYLIGHT
TZOFFSETFROM:+0100
TZOFFSETTO:+0200
TZNAME:CEST
DTSTART:20210328T010000
END:DAYLIGHT
BEGIN:STANDARD
TZOFFSETFROM:+0200
TZOFFSETTO:+0100
TZNAME:CET
DTSTART:20211031T010000
END:STANDARD
END:VTIMEZONE
BEGIN:VEVENT
DTSTART;TZID=Europe/Rome:20201209T080000
DTEND;TZID=Europe/Rome:20201209T170000
DTSTAMP:20260421T155546
CREATED:20211026T152139Z
LAST-MODIFIED:20211026T152250Z
UID:4121-1607500800-1607533200@viatrivero.staging.19.coop
SUMMARY:Carlo Capello\, Ai margini del lavoro.
DESCRIPTION:Un’antropologia della disoccupazione a Torino (Ombre Corte\, 2020)\, incontro con l’autore “Libri! Libri!” – un ciclo di incontri in programma da 18 novembre al 16 dicembre 2020. Ogni incontro si svolge in videoconferenza e viene trasmesso in streaming
URL:https://viatrivero.staging.19.coop/evento/carlo-capello-ai-margini-del-lavoro/
LOCATION:to
CATEGORIES:News
END:VEVENT
BEGIN:VEVENT
DTSTART;TZID=Europe/Rome:20201216T080000
DTEND;TZID=Europe/Rome:20201216T170000
DTSTAMP:20260421T155546
CREATED:20211026T152016Z
LAST-MODIFIED:20211026T152016Z
UID:4117-1608105600-1608138000@viatrivero.staging.19.coop
SUMMARY:Papa Francesco\, La dittatura dell’economia
DESCRIPTION:a cura di Ugo Mattei (Edizioni Gruppo Abele\, 2020)\, incontro con il curatore. “Libri! Libri!” – un ciclo di incontri in programma da 18 novembre al 16 dicembre 2020. Ogni incontro si svolge in videoconferenza e viene trasmesso in streaming
URL:https://viatrivero.staging.19.coop/evento/papa-francesco-la-dittatura-delleconomia/
LOCATION:to
CATEGORIES:News
END:VEVENT
END:VCALENDAR