BEGIN:VCALENDAR
VERSION:2.0
PRODID:-//Via Trivero - Volere La Luna - ECPv6.15.17.1//NONSGML v1.0//EN
CALSCALE:GREGORIAN
METHOD:PUBLISH
X-WR-CALNAME:Via Trivero - Volere La Luna
X-ORIGINAL-URL:https://viatrivero.staging.19.coop
X-WR-CALDESC:Eventi per Via Trivero - Volere La Luna
REFRESH-INTERVAL;VALUE=DURATION:PT1H
X-Robots-Tag:noindex
X-PUBLISHED-TTL:PT1H
BEGIN:VTIMEZONE
TZID:Europe/Rome
BEGIN:DAYLIGHT
TZOFFSETFROM:+0100
TZOFFSETTO:+0200
TZNAME:CEST
DTSTART:20210328T010000
END:DAYLIGHT
BEGIN:STANDARD
TZOFFSETFROM:+0200
TZOFFSETTO:+0100
TZNAME:CET
DTSTART:20211031T010000
END:STANDARD
BEGIN:DAYLIGHT
TZOFFSETFROM:+0100
TZOFFSETTO:+0200
TZNAME:CEST
DTSTART:20220327T010000
END:DAYLIGHT
BEGIN:STANDARD
TZOFFSETFROM:+0200
TZOFFSETTO:+0100
TZNAME:CET
DTSTART:20221030T010000
END:STANDARD
BEGIN:DAYLIGHT
TZOFFSETFROM:+0100
TZOFFSETTO:+0200
TZNAME:CEST
DTSTART:20230326T010000
END:DAYLIGHT
BEGIN:STANDARD
TZOFFSETFROM:+0200
TZOFFSETTO:+0100
TZNAME:CET
DTSTART:20231029T010000
END:STANDARD
END:VTIMEZONE
BEGIN:VEVENT
DTSTART;TZID=Europe/Rome:20221118T190000
DTEND;TZID=Europe/Rome:20221118T190000
DTSTAMP:20260419T225342
CREATED:20221112T130605Z
LAST-MODIFIED:20221112T143413Z
UID:6869-1668798000-1668798000@viatrivero.staging.19.coop
SUMMARY:In piazza per quale diritto? al circolo Gramsci
DESCRIPTION:
URL:https://viatrivero.staging.19.coop/evento/in-piazza-per-quale-diritto-circolo-gramsci/
LOCATION:to
CATEGORIES:News
END:VEVENT
BEGIN:VEVENT
DTSTART;TZID=Europe/Rome:20221118T210000
DTEND;TZID=Europe/Rome:20221118T210000
DTSTAMP:20260419T225342
CREATED:20221112T123650Z
LAST-MODIFIED:20221112T143332Z
UID:6852-1668805200-1668805200@viatrivero.staging.19.coop
SUMMARY:Giuristi contro la repressione e il 41 bis
DESCRIPTION:
URL:https://viatrivero.staging.19.coop/evento/giuristi-contro-la-repressione-e-il-41-bis/
LOCATION:to
CATEGORIES:News
END:VEVENT
END:VCALENDAR