BEGIN:VCALENDAR
VERSION:2.0
PRODID:-//Via Trivero - Volere La Luna - ECPv6.15.17.1//NONSGML v1.0//EN
CALSCALE:GREGORIAN
METHOD:PUBLISH
X-ORIGINAL-URL:https://viatrivero.staging.19.coop
X-WR-CALDESC:Eventi per Via Trivero - Volere La Luna
REFRESH-INTERVAL;VALUE=DURATION:PT1H
X-Robots-Tag:noindex
X-PUBLISHED-TTL:PT1H
BEGIN:VTIMEZONE
TZID:Europe/Rome
BEGIN:DAYLIGHT
TZOFFSETFROM:+0100
TZOFFSETTO:+0200
TZNAME:CEST
DTSTART:20210328T010000
END:DAYLIGHT
BEGIN:STANDARD
TZOFFSETFROM:+0200
TZOFFSETTO:+0100
TZNAME:CET
DTSTART:20211031T010000
END:STANDARD
BEGIN:DAYLIGHT
TZOFFSETFROM:+0100
TZOFFSETTO:+0200
TZNAME:CEST
DTSTART:20220327T010000
END:DAYLIGHT
BEGIN:STANDARD
TZOFFSETFROM:+0200
TZOFFSETTO:+0100
TZNAME:CET
DTSTART:20221030T010000
END:STANDARD
BEGIN:DAYLIGHT
TZOFFSETFROM:+0100
TZOFFSETTO:+0200
TZNAME:CEST
DTSTART:20230326T010000
END:DAYLIGHT
BEGIN:STANDARD
TZOFFSETFROM:+0200
TZOFFSETTO:+0100
TZNAME:CET
DTSTART:20231029T010000
END:STANDARD
END:VTIMEZONE
BEGIN:VEVENT
DTSTART;TZID=Europe/Rome:20221022T150000
DTEND;TZID=Europe/Rome:20221022T170000
DTSTAMP:20260420T003313
CREATED:20220703T172113Z
LAST-MODIFIED:20221112T143706Z
UID:6125-1666450800-1666458000@viatrivero.staging.19.coop
SUMMARY:Lezioni di pronto soccorso tenute da Antonia Attini
DESCRIPTION:le lezioni di pronto soccorso tenute da Antonia Attini
URL:https://viatrivero.staging.19.coop/evento/le-lezioni-di-pronto-soccorso-tenute-da-antonia-attini/
LOCATION:to
CATEGORIES:News
END:VEVENT
END:VCALENDAR