BEGIN:VCALENDAR
VERSION:2.0
PRODID:-//Via Trivero - Volere La Luna - ECPv6.15.17.1//NONSGML v1.0//EN
CALSCALE:GREGORIAN
METHOD:PUBLISH
X-ORIGINAL-URL:https://viatrivero.staging.19.coop
X-WR-CALDESC:Eventi per Via Trivero - Volere La Luna
REFRESH-INTERVAL;VALUE=DURATION:PT1H
X-Robots-Tag:noindex
X-PUBLISHED-TTL:PT1H
BEGIN:VTIMEZONE
TZID:Europe/Rome
BEGIN:DAYLIGHT
TZOFFSETFROM:+0100
TZOFFSETTO:+0200
TZNAME:CEST
DTSTART:20200329T010000
END:DAYLIGHT
BEGIN:STANDARD
TZOFFSETFROM:+0200
TZOFFSETTO:+0100
TZNAME:CET
DTSTART:20201025T010000
END:STANDARD
BEGIN:DAYLIGHT
TZOFFSETFROM:+0100
TZOFFSETTO:+0200
TZNAME:CEST
DTSTART:20210328T010000
END:DAYLIGHT
BEGIN:STANDARD
TZOFFSETFROM:+0200
TZOFFSETTO:+0100
TZNAME:CET
DTSTART:20211031T010000
END:STANDARD
BEGIN:DAYLIGHT
TZOFFSETFROM:+0100
TZOFFSETTO:+0200
TZNAME:CEST
DTSTART:20220327T010000
END:DAYLIGHT
BEGIN:STANDARD
TZOFFSETFROM:+0200
TZOFFSETTO:+0100
TZNAME:CET
DTSTART:20221030T010000
END:STANDARD
END:VTIMEZONE
BEGIN:VEVENT
DTSTART;TZID=Europe/Rome:20211017T193000
DTEND;TZID=Europe/Rome:20211017T233000
DTSTAMP:20260420T233810
CREATED:20210927T141811Z
LAST-MODIFIED:20211012T210609Z
UID:3740-1634499000-1634513400@viatrivero.staging.19.coop
SUMMARY:Carovana Migranti
DESCRIPTION:  \nDue serate imperdibili\, da Volere la Luna (mailchi.mp) \n  \nDomenica 17/10\, dalle 19.30\, vi aspettiamo a cena per raccontarvi tutto ciò che CarovaneMigranti ha vissuto in questi mesi\, anche grazie al vostro supporto preziosissimo.
URL:https://viatrivero.staging.19.coop/evento/carovana-migranti/
LOCATION:to
CATEGORIES:News
END:VEVENT
END:VCALENDAR