BEGIN:VCALENDAR
VERSION:2.0
PRODID:-//Via Trivero - Volere La Luna - ECPv6.15.17.1//NONSGML v1.0//EN
CALSCALE:GREGORIAN
METHOD:PUBLISH
X-ORIGINAL-URL:https://viatrivero.staging.19.coop
X-WR-CALDESC:Eventi per Via Trivero - Volere La Luna
REFRESH-INTERVAL;VALUE=DURATION:PT1H
X-Robots-Tag:noindex
X-PUBLISHED-TTL:PT1H
BEGIN:VTIMEZONE
TZID:Europe/Rome
BEGIN:DAYLIGHT
TZOFFSETFROM:+0100
TZOFFSETTO:+0200
TZNAME:CEST
DTSTART:20200329T010000
END:DAYLIGHT
BEGIN:STANDARD
TZOFFSETFROM:+0200
TZOFFSETTO:+0100
TZNAME:CET
DTSTART:20201025T010000
END:STANDARD
BEGIN:DAYLIGHT
TZOFFSETFROM:+0100
TZOFFSETTO:+0200
TZNAME:CEST
DTSTART:20210328T010000
END:DAYLIGHT
BEGIN:STANDARD
TZOFFSETFROM:+0200
TZOFFSETTO:+0100
TZNAME:CET
DTSTART:20211031T010000
END:STANDARD
BEGIN:DAYLIGHT
TZOFFSETFROM:+0100
TZOFFSETTO:+0200
TZNAME:CEST
DTSTART:20220327T010000
END:DAYLIGHT
BEGIN:STANDARD
TZOFFSETFROM:+0200
TZOFFSETTO:+0100
TZNAME:CET
DTSTART:20221030T010000
END:STANDARD
END:VTIMEZONE
BEGIN:VEVENT
DTSTART;TZID=Europe/Rome:20211016T100000
DTEND;TZID=Europe/Rome:20211016T120000
DTSTAMP:20260420T233807
CREATED:20210924T181154Z
LAST-MODIFIED:20210924T181312Z
UID:3736-1634378400-1634385600@viatrivero.staging.19.coop
SUMMARY:Fiabe dei mutamenti e  Questo non è un libro sul Covid
DESCRIPTION:Presentazione  dei volumi \nFiabe dei mutamenti (ed Bertoni)e Questo non è un libro sul Covid (ed. Le Mezzelane) \nDialogheranno col pubblico le  autrici Tiziana Colusso\, Maria Concetta Distefano\, Caterina Pagliasso\, Doriana Bruni e Giuliana Milia illustratrice  di entrambe le opere.
URL:https://viatrivero.staging.19.coop/evento/fiabe-dei-mutamenti-e-questo-non-e-un-libro-sul-covid/
LOCATION:to
CATEGORIES:News
END:VEVENT
BEGIN:VEVENT
DTSTART;TZID=Europe/Rome:20211016T150000
DTEND;TZID=Europe/Rome:20211016T200000
DTSTAMP:20260420T233807
CREATED:20211005T192711Z
LAST-MODIFIED:20211005T192711Z
UID:3896-1634396400-1634414400@viatrivero.staging.19.coop
SUMMARY:Vivilibron campidoglio
DESCRIPTION:Salone del libro OFF
URL:https://viatrivero.staging.19.coop/evento/vivilibron-campidoglio/
LOCATION:to
CATEGORIES:News
END:VEVENT
END:VCALENDAR